BEGIN:VCALENDAR
VERSION:2.0
PRODID:-//http://www.tainiothiki.gr///NONSGML kigkonsult.se iCalcreator 2.10.15//
METHOD:PUBLISH
BEGIN:VEVENT
UID:20260423T081037EEST-1345Vhzzhf@http://www.tainiothiki.gr/
DTSTAMP:20260423T051037Z
DESCRIPTION:ΑΙΘΟΥΣΑ Α\nΠΑΡΑΣΚΕΥΗ 24/04 - ΚΥΡΙΑΚΗ 26/04 &amp\; ΤΕΤΑΡΤΗ 29/04
 \n18:30 Γυναίκες έξω| Fuori (Mario Martone\, 116') Rosebud.21\n\n\nΜια\, β
 ασισμένη σε αληθινή ιστορία\, ταινία για τις απρόσμενες συναντήσεις που μπ
 ορούν να αλλάξουν μια ζωή...\n\nΣΥΝΟΨΗ\nΡώμη\, 1980. Η Γκολιάρντα Σαπιέντσ
 α βλέπει το μεγάλο της έργο και καρπό δέκα χρόνων δουλειάς\, «Η Τέχνη της 
 Χαράς»\, να απορρίπτεται από όλους τους ιταλικούς εκδοτικούς οίκους. Οικον
 ομικά εξαντλημένη και βαθιά απογοητευμένη\, θα βρεθεί στη φυλακή για μια μ
 ικροκλοπή. Όμως\, η απρόσμενη συνάντησή της με τις νεαρές συγκρατούμενες τ
 ης αποδεικνύεται μια εμπειρία που της αλλάζει τη ζωή.\nΜετά την αποφυλάκισ
 ή τους\, οι γυναίκες συνεχίζουν να συναντιούνται μέσα στο αποπνικτικό καλο
 καίρι της Ιταλίας. Η Γκολιάρντα αναπτύσσει έναν βαθύ και ουσιαστικό δεσμό 
 με τη Ρομπέρτα\, μια νεαρή κατά συρροή παραβάτη του νόμου και πολιτική ακτ
 ιβίστρια. Μέσα από αυτή τη σχέση\, που κινείται στα όρια της φιλίας\, της 
 συγγένειας και της εξέγερσης\, και που κανείς έξω από τη φυλακή δεν μπορεί
  να καταλάβει πραγματικά\, η Γκολιάρντα θα ξαναβρεί τη χαρά της ζωής και τ
 ην ορμή να γράψει ξανά.\n\nΛΙΓΑ ΛΟΓΙΑ ΓΙΑ ΤΗΝ ΤΑΙΝΙΑ\nΜια ταινία για μια σ
 πουδαία λογοτεχνική φωνή\nTo «Fuori» είναι μια ταινία αφιερωμένη στη Γκολι
 άρντα Σαπιέντσα (1924–1996)\, μία από τις σημαντικότερες και πιο ριζοσπαστ
 ικές φωνές της ιταλικής λογοτεχνίας του 20ού αιώνα. Παρότι το έργο της υπή
 ρξε βαθιά πρωτοποριακό\, η αναγνώρισή της ήρθε ουσιαστικά μετά τον θάνατό 
 της\, με την έκδοση του μεγάλου της μυθιστορήματος «Η Τέχνη της Χαράς» (L’
 arte della gioia)\, στο οποίο αφιέρωσε σχεδόν δέκα χρόνια από τη ζωή της.
 \nΣυγγραφέας\, ηθοποιός\, διανοούμενη\, και κατεξοχήν ελεύθερο πνεύμα\, η 
 Γκολιάρντα Σαπιέντσα δεν χωρούσε ποτέ σε εύκολους ορισμούς. Κόρη άθεων και
  σοσιαλιστών γονέων\, εισήχθη μόλις στα 16 της χρόνια\, με υποτροφία\, στη
 ν Ακαδημία Δραματικής Τέχνης της Ρώμης. Μετά τις σπουδές της αφοσιώθηκε στ
 ο θέατρο και τον κινηματογράφο\, συνεργαζόμενη με σπουδαίους σκηνοθέτες όπ
 ως ο Λουκίνο Βισκόντι\, ο Αλεσάντρο Μπλαζέτι και ο Τσίτο Μαζέλι\, με τον ο
 ποίο συνδέθηκε και προσωπικά για πολλά χρόνια.\nΉταν μια περίοδος έντονης 
 δημιουργικότητας: παράλληλα με την υποκριτική\, γύρισε ντοκιμαντέρ\, συμμε
 τείχε στη συγγραφή σεναρίων\, και συναναστράφηκε τους σημαντικότερους διαν
 οούμενους της Ρώμης. Ο θάνατος της μητέρας της το 1953 τη βύθισε σε μια βα
 θιά υπαρξιακή κρίση\, που οδήγησε σε μια απόπειρα αυτοκτονίας\, τη νοσηλεί
 α της σε κλινική και την τραυματική εμπειρία των ηλεκτροσόκ. Στα μέσα της 
 δεκαετίας του ’60\, ωστόσο\, αποφάσισε να ανακτήσει τον έλεγχο της ζωής τη
 ς: διέκοψε την ψυχανάλυση και\, μέσα από τη γραφή\, άρχισε ξανά να επιστρέ
 φει στη ζωή.\nΑπό εκείνη τη στιγμή και έπειτα\, η γραφή έγινε ο μοναδικός 
 της προορισμός. Το αποκορύφωμα αυτής της διαδρομής ήταν «Η Τέχνη της Χαράς
 »\, το οποίο ολοκλήρωσε στα τέλη της δεκαετίας του ’70. Ακολούθησε ένας μα
 κρύς και μάταιος αγώνας αναζήτησης εκδότη\, που κράτησε μέχρι τον θάνατό τ
 ης.\nΗ ευρύτερη αναγνώριση ήρθε τελικά μετά τον θάνατό της. Μετά την έκδοσ
 η της «Τέχνης της Χαράς»\, ήρθαν στο φως και άλλα ανέκδοτα έργα της\, ενώ 
 μέχρι σήμερα τής έχουν αφιερωθεί μονογραφίες\, μελέτες\, θεατρικές παραστά
 σεις\, δημόσιες αναγνώσεις και εκδηλώσεις. Πάντα μπροστά από την εποχή της
 \, η Σαπιέντσα διαβάζεται και αγαπιέται πλέον διεθνώς\, με το έργο της να 
 μοιάζει όλο και πιο προφητικό και επίκαιρο\, στην αδιάλλακτη διεκδίκηση τη
 ς προσωπικής και συλλογικής ελευθερίας.\nΤο «Fuori» εστιάζει σε μια καθορι
 στική στιγμή της ζωής της: τη σύντομη φυλάκισή της το 1980\, έπειτα από αυ
 τό που η ίδια χαρακτήρισε «πρόκληση»: την κλοπή κάποιων κοσμημάτων από μια
  φίλη της. Εξαντλημένη από τις συνεχείς απορρίψεις των εκδοτών\, σε δεινή 
 οικονομική κατάσταση και βαθιά απογοητευμένη από ένα πνευματικό περιβάλλον
  ανίκανο να δεχτεί την ακραία ελευθερία της γραφής της\, η Σαπιέντσα κατέλ
 ηξε στη φυλακή Ρεμπίμπια της Ρώμης.\nΑντιμέτωπη με την καθημερινότητα της 
 φυλακής\, προσέγγισε την εμπειρία με την ανάγκη της μαρτυρίας. Στα μάτια τ
 ης διανοούμενης\, τότε πια γύρω στα πενήντα\, η φυλακή φάνηκε αμέσως ως κα
 θρέφτης των κοινωνικών ανισοτήτων και αδικιών - αλλά και ως ένας χώρος όπο
 υ\, με την κατάργηση των ταξικών διαχωρισμών\, μπορούσαν να γεννηθούν η αλ
 ληλεγγύη\, η φιλία και οι αυθεντικές ανθρώπινες σχέσεις.\nΑυτός ο «άγνωστο
 ς πλανήτης που περιστρέφεται σε τροχιά πολύ κοντά στην πόλη μας»\, όπως το
 ν περιέγραψε\, αποδείχθηκε καθοριστικός τόσο για την ύπαρξή της όσο και γι
 α το έργο της. Από αυτή την εμπειρία γεννήθηκαν τα βιβλία «L’Università di
  Rebibbia» και «Le Certezze del Dubbio»\, όπου η Σαπιέντσα διατυπώνει την 
 πεποίθηση ότι η φυλακή αποτελεί απλώς την πιο ακραία μορφή εγκλεισμού και 
 ότι «έξω»\, στην κοινωνία\, υπάρχουν πιο ύπουλες και εξίσου επικίνδυνες μο
 ρφές καταναγκασμού και περιορισμού της ελευθερίας.\nΤο «Fuori»\, μια ειλικ
 ρινής προσπάθεια κινηματογραφικής αποτύπωσης αυτής της κατάθεσης ψυχής\, έ
 χει την τύχη να καθοδηγείται από τον Μάριο Μαρτόνε\, έναν δημιουργό που συ
 λλαμβάνει όσο λίγοι το πνεύμα του ιταλικού σινεμά και τις πολιτικές\, κοιν
 ωνικές\, θρησκευτικές και περιφερειακές του διαστάσεις. Γεννημένος στη Νάπ
 ολη\, ο Μαρτόνε υπήρξε προπομπός μιας ολόκληρης γενιάς σημαντικών Ιταλών σ
 κηνοθετών -ανάμεσά τους οι Πάολο Σορεντίνο\, Πιέτρο Μαρτσέλο και Ματέο Γκα
 ρόνε- ενώ το «Fuori» σηματοδοτεί την τρίτη του συμμετοχή στο Διαγωνιστικό 
 Τμήμα των Καννών\, έχοντας παράλληλα επτά παρουσίες στο Φεστιβάλ Βενετίας.
 \nΚαθοριστική είναι και η παρουσία της πρωταγωνίστριας Βαλέρια Γκολίνο\, μ
 ιας ηθοποιού που αποπνέει σπάνια ανθρωπιά\, υπομονή και εσωτερικότητα. Ο ρ
 όλος της Σαπιέντσα βρίσκεται σε δημιουργική συγγένεια με τη διαδρομή της ί
 διας της Γκολίνο\, η οποία υπήρξε σκηνοθέτης και συνδημιουργός της τηλεοπτ
 ικής μεταφοράς του «The Art of Joy» σε μίνι σειρά έξι επεισοδίων για το Sk
 y Atlantic το 2025.\nΛειτουργώντας ταυτόχρονα ως οξυδερκής μελέτη πολύπλοκ
 ων γυναικείων χαρακτήρων\, δράμα εγκλεισμού και ιδιότυπη λογοτεχνική βιογρ
 αφία\, το «Fuori» συνιστά έναν συγκινητικό και τελικά ανυψωτικό φόρο τιμής
  στη μη συμμόρφωση στις κοινωνικές και υπαρξιακές συμβάσεις.\n  \n\nΕΙΣΙΤΗ
 ΡΙΑ\n-Είσοδος για όλες τις αίθουσες: 7€\, 5€* (μειωμένο)\nΚάθε Δευτέρα ισχ
 ύει προσφορά εισόδου για 2 άτομα με ένα εισιτήριο στα 7€ από το ταμείο\n*Τ
 ο μειωμένο εισιτήριο αφορά στις παρακάτω κατηγορίες:μαθητές\, φοιτητές\, ά
 τομα άνω των 65 ετών\, άνεργοι\, άνθρωποι με αναπηρία – ΑμεΑ (ισχύει και γ
 ια έναν/μία συνοδό)\, δάσκαλοι-καθηγητές\, ατέλειες.\nΠρονόμια μελών σε ΜΜ
 Ε\n-Αθηνόραμα Club (Αθηνόραμα): Από Δευτέρα έως και Πέμπτη\, ειδική τιμή €
  5\nΚλείστε ηλεκτρονικά τα εισιτήριά σας στο: https://tickets.tainiothiki.
 gr/Σημειώνεται πως οι δικαιούχοι μειωμένου εισιτηρίου\, θα πρέπει να προμη
 θευτούν τα εισιτήριά τους από το ταμείο της Ταινιοθήκης. \n  http://www.ta
 iniothiki.gr/en/programme/venue-a/event/2323-fuori
DTSTART:20260429T153000Z
DTEND:20260429T172500Z
LOCATION:Αίθουσα Α (ΙΕΡΑ ΟΔΟΣ 48\, 104 35\, ΚΕΡΑΜΕΙΚΟΣ\, ΑΘΗΝΑ)
SUMMARY:Γυναίκες έξω | Fuori 
URL:http://www.tainiothiki.gr/en/programme/venue-a/event/2323-fuori
END:VEVENT
END:VCALENDAR
