BEGIN:VCALENDAR
VERSION:2.0
PRODID:-//http://www.tainiothiki.gr///NONSGML kigkonsult.se iCalcreator 2.10.15//
METHOD:PUBLISH
BEGIN:VEVENT
UID:20260423T081037EEST-5826dk2G5B@http://www.tainiothiki.gr/
DTSTAMP:20260423T051037Z
DESCRIPTION:ΑΙΘΟΥΣΑ Α\nΣΑΒΒΑΤΟ 25/04 - ΚΥΡΙΑΚΗ 26/04 &amp\; ΤΕΤΑΡΤΗ 29/04\n
 18:30 Γυναίκες έξω| Fuori (Mario Martone\, 116') Rosebud.21\n\n\nΜια\, βασ
 ισμένη σε αληθινή ιστορία\, ταινία για τις απρόσμενες συναντήσεις που μπορ
 ούν να αλλάξουν μια ζωή...\n\nΣΥΝΟΨΗ\nΡώμη\, 1980. Η Γκολιάρντα Σαπιέντσα 
 βλέπει το μεγάλο της έργο και καρπό δέκα χρόνων δουλειάς\, «Η Τέχνη της Χα
 ράς»\, να απορρίπτεται από όλους τους ιταλικούς εκδοτικούς οίκους. Οικονομ
 ικά εξαντλημένη και βαθιά απογοητευμένη\, θα βρεθεί στη φυλακή για μια μικ
 ροκλοπή. Όμως\, η απρόσμενη συνάντησή της με τις νεαρές συγκρατούμενες της
  αποδεικνύεται μια εμπειρία που της αλλάζει τη ζωή.\nΜετά την αποφυλάκισή 
 τους\, οι γυναίκες συνεχίζουν να συναντιούνται μέσα στο αποπνικτικό καλοκα
 ίρι της Ιταλίας. Η Γκολιάρντα αναπτύσσει έναν βαθύ και ουσιαστικό δεσμό με
  τη Ρομπέρτα\, μια νεαρή κατά συρροή παραβάτη του νόμου και πολιτική ακτιβ
 ίστρια. Μέσα από αυτή τη σχέση\, που κινείται στα όρια της φιλίας\, της συ
 γγένειας και της εξέγερσης\, και που κανείς έξω από τη φυλακή δεν μπορεί ν
 α καταλάβει πραγματικά\, η Γκολιάρντα θα ξαναβρεί τη χαρά της ζωής και την
  ορμή να γράψει ξανά.\n\nΛΙΓΑ ΛΟΓΙΑ ΓΙΑ ΤΗΝ ΤΑΙΝΙΑ\nΜια ταινία για μια σπο
 υδαία λογοτεχνική φωνή\nTo «Fuori» είναι μια ταινία αφιερωμένη στη Γκολιάρ
 ντα Σαπιέντσα (1924–1996)\, μία από τις σημαντικότερες και πιο ριζοσπαστικ
 ές φωνές της ιταλικής λογοτεχνίας του 20ού αιώνα. Παρότι το έργο της υπήρξ
 ε βαθιά πρωτοποριακό\, η αναγνώρισή της ήρθε ουσιαστικά μετά τον θάνατό τη
 ς\, με την έκδοση του μεγάλου της μυθιστορήματος «Η Τέχνη της Χαράς» (L’ar
 te della gioia)\, στο οποίο αφιέρωσε σχεδόν δέκα χρόνια από τη ζωή της.\nΣ
 υγγραφέας\, ηθοποιός\, διανοούμενη\, και κατεξοχήν ελεύθερο πνεύμα\, η Γκο
 λιάρντα Σαπιέντσα δεν χωρούσε ποτέ σε εύκολους ορισμούς. Κόρη άθεων και σο
 σιαλιστών γονέων\, εισήχθη μόλις στα 16 της χρόνια\, με υποτροφία\, στην Α
 καδημία Δραματικής Τέχνης της Ρώμης. Μετά τις σπουδές της αφοσιώθηκε στο θ
 έατρο και τον κινηματογράφο\, συνεργαζόμενη με σπουδαίους σκηνοθέτες όπως 
 ο Λουκίνο Βισκόντι\, ο Αλεσάντρο Μπλαζέτι και ο Τσίτο Μαζέλι\, με τον οποί
 ο συνδέθηκε και προσωπικά για πολλά χρόνια.\nΉταν μια περίοδος έντονης δημ
 ιουργικότητας: παράλληλα με την υποκριτική\, γύρισε ντοκιμαντέρ\, συμμετεί
 χε στη συγγραφή σεναρίων\, και συναναστράφηκε τους σημαντικότερους διανοού
 μενους της Ρώμης. Ο θάνατος της μητέρας της το 1953 τη βύθισε σε μια βαθιά
  υπαρξιακή κρίση\, που οδήγησε σε μια απόπειρα αυτοκτονίας\, τη νοσηλεία τ
 ης σε κλινική και την τραυματική εμπειρία των ηλεκτροσόκ. Στα μέσα της δεκ
 αετίας του ’60\, ωστόσο\, αποφάσισε να ανακτήσει τον έλεγχο της ζωής της: 
 διέκοψε την ψυχανάλυση και\, μέσα από τη γραφή\, άρχισε ξανά να επιστρέφει
  στη ζωή.\nΑπό εκείνη τη στιγμή και έπειτα\, η γραφή έγινε ο μοναδικός της
  προορισμός. Το αποκορύφωμα αυτής της διαδρομής ήταν «Η Τέχνη της Χαράς»\,
  το οποίο ολοκλήρωσε στα τέλη της δεκαετίας του ’70. Ακολούθησε ένας μακρύ
 ς και μάταιος αγώνας αναζήτησης εκδότη\, που κράτησε μέχρι τον θάνατό της.
 \nΗ ευρύτερη αναγνώριση ήρθε τελικά μετά τον θάνατό της. Μετά την έκδοση τ
 ης «Τέχνης της Χαράς»\, ήρθαν στο φως και άλλα ανέκδοτα έργα της\, ενώ μέχ
 ρι σήμερα τής έχουν αφιερωθεί μονογραφίες\, μελέτες\, θεατρικές παραστάσει
 ς\, δημόσιες αναγνώσεις και εκδηλώσεις. Πάντα μπροστά από την εποχή της\, 
 η Σαπιέντσα διαβάζεται και αγαπιέται πλέον διεθνώς\, με το έργο της να μοι
 άζει όλο και πιο προφητικό και επίκαιρο\, στην αδιάλλακτη διεκδίκηση της π
 ροσωπικής και συλλογικής ελευθερίας.\nΤο «Fuori» εστιάζει σε μια καθοριστι
 κή στιγμή της ζωής της: τη σύντομη φυλάκισή της το 1980\, έπειτα από αυτό 
 που η ίδια χαρακτήρισε «πρόκληση»: την κλοπή κάποιων κοσμημάτων από μια φί
 λη της. Εξαντλημένη από τις συνεχείς απορρίψεις των εκδοτών\, σε δεινή οικ
 ονομική κατάσταση και βαθιά απογοητευμένη από ένα πνευματικό περιβάλλον αν
 ίκανο να δεχτεί την ακραία ελευθερία της γραφής της\, η Σαπιέντσα κατέληξε
  στη φυλακή Ρεμπίμπια της Ρώμης.\nΑντιμέτωπη με την καθημερινότητα της φυλ
 ακής\, προσέγγισε την εμπειρία με την ανάγκη της μαρτυρίας. Στα μάτια της 
 διανοούμενης\, τότε πια γύρω στα πενήντα\, η φυλακή φάνηκε αμέσως ως καθρέ
 φτης των κοινωνικών ανισοτήτων και αδικιών - αλλά και ως ένας χώρος όπου\,
  με την κατάργηση των ταξικών διαχωρισμών\, μπορούσαν να γεννηθούν η αλληλ
 εγγύη\, η φιλία και οι αυθεντικές ανθρώπινες σχέσεις.\nΑυτός ο «άγνωστος π
 λανήτης που περιστρέφεται σε τροχιά πολύ κοντά στην πόλη μας»\, όπως τον π
 εριέγραψε\, αποδείχθηκε καθοριστικός τόσο για την ύπαρξή της όσο και για τ
 ο έργο της. Από αυτή την εμπειρία γεννήθηκαν τα βιβλία «L’Università di Re
 bibbia» και «Le Certezze del Dubbio»\, όπου η Σαπιέντσα διατυπώνει την πεπ
 οίθηση ότι η φυλακή αποτελεί απλώς την πιο ακραία μορφή εγκλεισμού και ότι
  «έξω»\, στην κοινωνία\, υπάρχουν πιο ύπουλες και εξίσου επικίνδυνες μορφέ
 ς καταναγκασμού και περιορισμού της ελευθερίας.\nΤο «Fuori»\, μια ειλικριν
 ής προσπάθεια κινηματογραφικής αποτύπωσης αυτής της κατάθεσης ψυχής\, έχει
  την τύχη να καθοδηγείται από τον Μάριο Μαρτόνε\, έναν δημιουργό που συλλα
 μβάνει όσο λίγοι το πνεύμα του ιταλικού σινεμά και τις πολιτικές\, κοινωνι
 κές\, θρησκευτικές και περιφερειακές του διαστάσεις. Γεννημένος στη Νάπολη
 \, ο Μαρτόνε υπήρξε προπομπός μιας ολόκληρης γενιάς σημαντικών Ιταλών σκην
 οθετών -ανάμεσά τους οι Πάολο Σορεντίνο\, Πιέτρο Μαρτσέλο και Ματέο Γκαρόν
 ε- ενώ το «Fuori» σηματοδοτεί την τρίτη του συμμετοχή στο Διαγωνιστικό Τμή
 μα των Καννών\, έχοντας παράλληλα επτά παρουσίες στο Φεστιβάλ Βενετίας.\nΚ
 αθοριστική είναι και η παρουσία της πρωταγωνίστριας Βαλέρια Γκολίνο\, μιας
  ηθοποιού που αποπνέει σπάνια ανθρωπιά\, υπομονή και εσωτερικότητα. Ο ρόλο
 ς της Σαπιέντσα βρίσκεται σε δημιουργική συγγένεια με τη διαδρομή της ίδια
 ς της Γκολίνο\, η οποία υπήρξε σκηνοθέτης και συνδημιουργός της τηλεοπτική
 ς μεταφοράς του «The Art of Joy» σε μίνι σειρά έξι επεισοδίων για το Sky A
 tlantic το 2025.\nΛειτουργώντας ταυτόχρονα ως οξυδερκής μελέτη πολύπλοκων 
 γυναικείων χαρακτήρων\, δράμα εγκλεισμού και ιδιότυπη λογοτεχνική βιογραφί
 α\, το «Fuori» συνιστά έναν συγκινητικό και τελικά ανυψωτικό φόρο τιμής στ
 η μη συμμόρφωση στις κοινωνικές και υπαρξιακές συμβάσεις.\n  \n\nΕΙΣΙΤΗΡΙΑ
 \n-Είσοδος για όλες τις αίθουσες: 7€\, 5€* (μειωμένο)\nΚάθε Δευτέρα ισχύει
  προσφορά εισόδου για 2 άτομα με ένα εισιτήριο στα 7€ από το ταμείο\n*Το μ
 ειωμένο εισιτήριο αφορά στις παρακάτω κατηγορίες:μαθητές\, φοιτητές\, άτομ
 α άνω των 65 ετών\, άνεργοι\, άνθρωποι με αναπηρία – ΑμεΑ (ισχύει και για 
 έναν/μία συνοδό)\, δάσκαλοι-καθηγητές\, ατέλειες.\nΠρονόμια μελών σε ΜΜΕ\n
 -Αθηνόραμα Club (Αθηνόραμα): Από Δευτέρα έως και Πέμπτη\, ειδική τιμή € 5
 \nΚλείστε ηλεκτρονικά τα εισιτήριά σας στο: https://tickets.tainiothiki.gr
 /Σημειώνεται πως οι δικαιούχοι μειωμένου εισιτηρίου\, θα πρέπει να προμηθε
 υτούν τα εισιτήριά τους από το ταμείο της Ταινιοθήκης. \n  http://www.tain
 iothiki.gr/en/programme/venue-a/event/2322-fuori
DTSTART:20260425T153000Z
DTEND:20260426T172500Z
LOCATION:Αίθουσα Α (ΙΕΡΑ ΟΔΟΣ 48\, 104 35\, ΚΕΡΑΜΕΙΚΟΣ\, ΑΘΗΝΑ)
SUMMARY:Γυναίκες έξω | Fuori 
URL:http://www.tainiothiki.gr/en/programme/venue-a/event/2322-fuori
END:VEVENT
END:VCALENDAR
