BEGIN:VCALENDAR
VERSION:2.0
PRODID:-//http://www.tainiothiki.gr///NONSGML kigkonsult.se iCalcreator 2.10.15//
METHOD:PUBLISH
BEGIN:VEVENT
UID:20260420T182932EEST-2196Modm7c@http://www.tainiothiki.gr/
DTSTAMP:20260420T152932Z
DESCRIPTION:ΑΙΘΟΥΣΑ Α\nΤΡΙΤΗ 24/02\n\nWIFT GR Πανόραμα Ταινιών Μικρού Μήκου
 ς\nΕίσοδος ελεύθερη \n18:00 – 20:00Numb - Δέσποινα Κούρτη\, 20’Πίτυλος – P
 itylos - Γαλάτεια Λαγουτάρη\, 18’Γοργόνες – Mermaids - Λήδα Βαρτζιώτη/ Δημ
 ήτρης Τσακαλέας\, 16’ΜΙΤΣΗ – Μitsi – Γεύη Δημητρακοπούλου\, 26’Λιθοβολούσε
 ς – Stonethrowers - Σοφία Ντώνα\, 24’\n20:00 – 22:00Αυτό που δεν ήξερε η Μ
 αίρη – What Mary Didn’t Know – Κωνσταντίνα Κοτζαμάνη\, 55’Αυτό που ζητάμε 
 από ένα άγαλμα είναι να μην κινείται – What we ask of a statue is that it 
 doesn’t move - Δάφνη Χαιρετάκη\, 31’Who Was Here? – Εύη Στάμου\, 26’\n22:0
 0 – 23:30Πλανήτες – Planites - Φίλη Ολσέφσκι\, 29’Κάτι σαν το τέλος του κό
 σμου – Something Like the End of the World -  Έμμα Δοξιάδη\, 10’No Future 
 Kids - Ελένη Πουλοπούλου\, 20’Παντάξενος – The Outsider - Ευτυχία Ιωσηφίδο
 υ\, 8’Φοίβη – Phoebe - Βαγγελιώ Σουμελή\, 15’\n\n\n http://www.tainiothiki
 .gr/en/programme/calendar/event/2239-wift-gr
DTSTART:20260224T160000Z
DTEND:20260224T215900Z
LOCATION:Αίθουσα Α (ΙΕΡΑ ΟΔΟΣ 48\, 104 35\, ΚΕΡΑΜΕΙΚΟΣ\, ΑΘΗΝΑ)
SUMMARY:WIFT GR Πανόραμα Ταινιών Μικρού Μήκους
URL:http://www.tainiothiki.gr/en/programme/calendar/event/2239-wift-gr
END:VEVENT
END:VCALENDAR
