BEGIN:VCALENDAR
VERSION:2.0
PRODID:-//http://www.tainiothiki.gr///NONSGML kigkonsult.se iCalcreator 2.10.15//
METHOD:PUBLISH
BEGIN:VEVENT
UID:20260424T070801EEST-7724u7oso9@http://www.tainiothiki.gr/
DTSTAMP:20260424T040801Z
DESCRIPTION:ΑΙΘΟΥΣΑ Α\nΤΡΙΤΗ 02/04\n19:00 Ευχαριστούμε Ουγγαρία – Μοίρες στ
 η σκιά του ελληνικού εμφυλίου – Βίκτωρας Παπατσιώρας\nΜια παραγωγή της Αυτ
 οδιοίκησης Ελλήνων Βουδαπέστης\nΟΜΙΛΗΤΕΣ:\nΚουτσογιαννάκη Κατερίνα\, υποψή
 φια Διδάκτωρ\, Τμήμα Ιστορίας και Αρχαιολογίας\, ΕΚΠΑΠαρσάνογλου Δημήτρης\
 , Αναπληρωτής Καθηγητής\, Τμήμα Κοινωνιολογίας\, Εθνικό και Καποδιστριακό 
 Πανεπιστήμιο ΑθηνώνΡεθυμιωτάκη Ελένη\, Αναπληρώτρια Καθηγήτρια\, Τμήμα Νομ
 ικής\, Πρόεδρος Τμήματος Κοινωνιολογίας\, Εθνικό και Καποδιστριακό Πανεπισ
 τήμιο ΑθηνώνΣπουρδαλάκης Μιχάλης\, Ομότιμος Καθηγητής\, Τμήμα Κοινωνιολογί
 ας\, Εθνικό και Καποδιστριακό Πανεπιστήμιο ΑθηνώνΤσίγκανου Ιωάννα\,  Πρόεδ
 ρος Ελληνικής Κοινωνιολογικής Εταιρείας\, Διευθύντρια Ερευνών στο Εθνικό Κ
 έντρο Κοινωνικών ΕρευνώνΦωκάς Νίκος\, Ομότιμος Καθηγητής\, Τμήμα Κοινωνιολ
 ογίας\, Πρόεδρος Peripato Research Group\, Eötvös Loránd University\, Buda
 pest\nΕίσοδος ελεύθερη\n http://www.tainiothiki.gr/en/programme/calendar/e
 vent/1379-
DTSTART:20240402T160000Z
DTEND:20240402T190000Z
LOCATION:Αίθουσα Α (ΙΕΡΑ ΟΔΟΣ 48\, 104 35\, ΚΕΡΑΜΕΙΚΟΣ\, ΑΘΗΝΑ)
SUMMARY:Ευχαριστούμε Ουγγαρία – Μοίρες στη σκιά του ελληνικού εμφυλίου
URL:http://www.tainiothiki.gr/en/programme/calendar/event/1379-
END:VEVENT
END:VCALENDAR
