BEGIN:VCALENDAR
VERSION:2.0
PRODID:-//http://www.tainiothiki.gr///NONSGML kigkonsult.se iCalcreator 2.10.15//
METHOD:PUBLISH
BEGIN:VEVENT
UID:20260424T134600EEST-4666hvNOw1@http://www.tainiothiki.gr/
DTSTAMP:20260424T104600Z
DESCRIPTION:ΘΕΡΙΝΟΣ ΚΙΝΗΜΑΤΟΓΡΑΦΟΣ ΛΑΪΣ\nΠΕΜΠΤΗ 30/07 - ΤΕΤΑΡΤΗ 05/08\n21:1
 5 El Plan | Ενα Τέλειο Σχέδιο (79'\, Πόλο Μενάργκεζ) Διανομή: Weirdwave\nΣ
 ΥΝΟΨΗ | Τρεις φίλοι είναι άνεργοι εδώ και πολύ καιρό . Σήμερα στις 9 το πρ
 ωί\, έχουν κανονίσει να συναντηθούν για να εκτελέσουν ένα σχέδιο που θα το
 υς βγάλει από τη δύσκολη κατάσταση . Όταν επιτέλους βρεθούν όλοι μαζί\, έν
 α απρόσμενο γεγονός τους σταματά. Καθώς ψάχνουν τρόπο για να φύγουν\, μπαί
 νουν σε άβολες συζητήσεις που φέρνουν στο φως απρόσμενες αποκαλύψεις . Η φ
 ιλία των τριών αρχίζει να κλονίζεται.\n\nΣημείωμα του σκηνοθέτη:\nΤο ζήτημ
 α του κλειστού ανδρικού σύμπαντος είναι ένα θέμα που διερευνώ σταδιακά μέσ
 α από τη δουλειά μου: ήταν ήδη εκεί στο “Dos Amigos”\, όπου δυο γέροι φίλο
 ι διαρκώς προκαλούν ο ένας τον άλλο\, για να δουν ποιός είναι ο πιο δυνατό
 ς και ποιός είναι ο πιο άνδρας\, σύμφωνα με τα “κλασικά” κριτήρια . Μετά έ
 κανα τρεις μικρού μήκους\, όλες ασπρόμαυρες\, όλες με άντρες με μαύρα κουσ
 τούμια . Εκείνοι οι άντρες εκφράζαν τις απογοητεύσεις τους\, τις αδυναμίες
  και τις ανασφάλειες τους ιδιαίτερα μέσα στα πλαίσια αυτής της διαστρεβλωμ
 ένης αρρενωπότητας\, και πάντα μιλώντας για μια γυναίκα που δεν βλέπουμε π
 οτέ. Σε όλες αυτές τις δουλειές\, προσπαθώ να αναλύσω όψεις\, επίσης της δ
 ικής μου αρρενωπότητας\, όπως και των φίλων μου\, έτσι ώστε να κατανοήσουμ
 ε τους εαυτούς μας λίγο καλύτερα\, αλλά και να επεξεργαστούμε τον ρόλο που
  παίζει στις σχέσεις μας. Έχει να κάνει βασικά με το να αντικρύσουμε τον ε
 αυτό μας κατάματα ώστε να διαπιστώσουμε ποια ίχνη της αρρενωπότητας είναι 
 επιζήμια και τοξικά\, πώς μας επηρεάζουν και τον τρόπο που επιδρούν στις γ
 υναίκες και στην κοινωνία. Όταν είδα το ομώνυμο θεατρικό έργο του Ιγκνάσι 
 Βιντάλ\, ήταν καθαρό για μένα ότι αυτά τα τρία προφίλ αντρών μπορούσε κανε
 ίς να τα συναντήσει σε πολλές παρέες αντρών! Αυτή η\, φαινομενικά αθώα\, μ
 άτσο συμπεριφορά βγαίνει σε κάθε λέξη του κειμένου και ξαφνικά εκρήγνυται:
  σε μια στιγμή\, βλέπουμε ότι τόσο καιρό απλώς κάναμε τα στραβά μάτια απέν
 αντι σε μια συμπεριφορά επικίνδυνη που βρίσκεται καραδοκεί μέσα σε όλους μ
 ας.\n\n\n-Είσοδος για όλες τις αίθουσες: 7€\, 5€* (μειωμένο)\nΚάθε Πέμπτη 
 ισχύει προσφορά εισόδου για 2 άτομα με ένα εισιτήριο στα 7€\n*Το μειωμένο 
 εισιτήριο αφορά στις παρακάτω κατηγορίες:μαθητές\, φοιτητές\, άτομα άνω τω
 ν 65 ετών\, άνεργοι\, άνθρωποι με αναπηρία – ΑμεΑ (ισχύει και για έναν/μία
  συνοδό)\, δάσκαλοι-καθηγητές\, ατέλειες.Προνόμια μελών σε ΜΜΕ\n-Αθηνόραμα
  Club (Αθηνόραμα): Από Δευτέρα έως και Πέμπτη\, ειδική τιμή € 5 http://www
 .tainiothiki.gr/en/programme/calendar/event/132-el-plan
DTSTART:20200730T181500Z
DTEND:20200805T181500Z
LOCATION:Θερινό Λαΐς (ΙΕΡΑ ΟΔΟΣ 48\, 104 35\, ΚΕΡΑΜΕΙΚΟΣ\, ΑΘΗΝΑ	)
SUMMARY:El Plan | Ενα Τέλειο Σχέδιο 
URL:http://www.tainiothiki.gr/en/programme/calendar/event/132-el-plan
END:VEVENT
END:VCALENDAR
