BEGIN:VCALENDAR
VERSION:2.0
PRODID:-//http://www.tainiothiki.gr///NONSGML kigkonsult.se iCalcreator 2.10.15//
METHOD:PUBLISH
BEGIN:VEVENT
UID:20260424T134543EEST-0472Ohem9f@http://www.tainiothiki.gr/
DTSTAMP:20260424T104543Z
DESCRIPTION:ΘΕΡΙΝΟΣ ΚΙΝΗΜΑΤΟΓΡΑΦΟΣ ΛΑΪΣ\nΠΕΜΠΤΗ 30/07 - ΚΥΡΙΑΚΗ 02/08 &amp\
 ; ΤΡΙΤΗ 04/08 - ΤΕΤΑΡΤΗ 05/08\n23.00  Pari Σκηνοθεσία: Σιαμάκ ΕτεμάντιΔιάρ
 κεια: 111' Διανομή: Heretic\nΣΥΝΟΨΗ | Ένα ζευγάρι Ιρανών έρχονται στην Αθή
 να για να επισκεφτούν τον γιο τους\, ο οποίος σπουδάζει στο πανεπιστήμιο. 
 Εκείνος\, όμως\, έχει εξαφανιστεί\, σβήνοντας κάθε ίχνος του.\n\n\n\n-Είσο
 δος για όλες τις αίθουσες: 7€\, 5€* (μειωμένο)\nΚάθε Πέμπτη ισχύει προσφορ
 ά εισόδου για 2 άτομα με ένα εισιτήριο στα 7€\n*Το μειωμένο εισιτήριο αφορ
 ά στις παρακάτω κατηγορίες:μαθητές\, φοιτητές\, άτομα άνω των 65 ετών\, άν
 εργοι\, άνθρωποι με αναπηρία – ΑμεΑ (ισχύει και για έναν/μία συνοδό)\, δάσ
 καλοι-καθηγητές\, ατέλειες.Προνόμια μελών σε ΜΜΕ\n-Αθηνόραμα Club (Αθηνόρα
 μα): Από Δευτέρα έως και Πέμπτη\, ειδική τιμή € 5 http://www.tainiothiki.g
 r/en/programme/calendar/event/131-pari
DTSTART:20200804T200000Z
DTEND:20200805T200000Z
LOCATION:Θερινό Λαΐς (ΙΕΡΑ ΟΔΟΣ 48\, 104 35\, ΚΕΡΑΜΕΙΚΟΣ\, ΑΘΗΝΑ	)
SUMMARY:Pari
URL:http://www.tainiothiki.gr/en/programme/calendar/event/131-pari
END:VEVENT
END:VCALENDAR
