BEGIN:VCALENDAR
VERSION:2.0
PRODID:-//http://www.tainiothiki.gr///NONSGML kigkonsult.se iCalcreator 2.10.15//
METHOD:PUBLISH
BEGIN:VEVENT
UID:20260424T234022EEST-6936cunxcV@http://www.tainiothiki.gr/
DTSTAMP:20260424T204022Z
DESCRIPTION:ΘΕΡΙΝΟΣ ΚΙΝΗΜΑΤΟΓΡΑΦΟΣ ΛΑΪΣ\nΠΕΜΠΤΗ 23/07 - ΚΥΡΙΑΚΗ 26/07 &amp\
 ; ΤΡΙΤΗ 28/07 -ΤΕΤΑΡΤΗ 29/07\n20:50 El Robo del Siglo | Το Κόλπο του Αιώνα
 \n(114'\, Αριέλ Γουϊνογκράδ) Διανομή: Rosebud21\nΣτο Μπουένος Άιρες του 20
 06 μια ομάδα μικροκακοποιών σχεδιάζει να ληστέψει ένα υποκατάστημα της Ban
 co Rio κάνοντας μια εντυπωσιακή είσοδο και μια εντελώς απρόβλεπτη έξοδο.\n
 \n\n-Είσοδος για όλες τις αίθουσες: 7€\, 5€* (μειωμένο)\nΚάθε Πέμπτη ισχύε
 ι προσφορά εισόδου για 2 άτομα με ένα εισιτήριο στα 7€\n*Το μειωμένο εισιτ
 ήριο αφορά στις παρακάτω κατηγορίες:μαθητές\, φοιτητές\, άτομα άνω των 65 
 ετών\, άνεργοι\, άνθρωποι με αναπηρία – ΑμεΑ (ισχύει και για έναν/μία συνο
 δό)\, δάσκαλοι-καθηγητές\, ατέλειες.\nΠρονόμια μελών σε ΜΜΕ\n-Αθηνόραμα Cl
 ub (Αθηνόραμα): Από Δευτέρα έως και Πέμπτη\, ειδική τιμή € 5 http://www.ta
 iniothiki.gr/en/programme/calendar/event/127-el-robo-del-siglo
DTSTART:20200728T175000Z
DTEND:20200729T175000Z
LOCATION:Θερινό Λαΐς (ΙΕΡΑ ΟΔΟΣ 48\, 104 35\, ΚΕΡΑΜΕΙΚΟΣ\, ΑΘΗΝΑ	)
SUMMARY:El Robo del Siglo | Το Κόλπο του Αιώνα
URL:http://www.tainiothiki.gr/en/programme/calendar/event/127-el-robo-del-s
 iglo
END:VEVENT
END:VCALENDAR
