BEGIN:VCALENDAR
VERSION:2.0
PRODID:-//http://www.tainiothiki.gr///NONSGML kigkonsult.se iCalcreator 2.10.15//
METHOD:PUBLISH
BEGIN:VEVENT
UID:20260424T072057EEST-9519ZpsCRr@http://www.tainiothiki.gr/
DTSTAMP:20260424T042057Z
DESCRIPTION:ΑΙΘΟΥΣΑ Α\nΤΟ ΦΕΣΤΙΒΑΛ ΟΛΥΜΠΙΑΣ ΠΑΕΙ ΤΑΙΝΙΟΘΗΚΗ\nΚΥΡΙΑΚΗ 21/01
 \n17:00 Βραβευμένες ταινίες Ευρωπαϊκού και Διεθνούς τμήματος 23ης Camera Z
 izanio\n\n\n  \n-Είσοδος στην εκδήλωση Το Φεστιβάλ Ολυμπίας πάει Ταινιοθήκ
 η\nΗμερήσιο εισιτήριο για ενήλικες: 9 ευρώ\nΗμερήσιο εισιτήριο για παιδιά:
  6 ευρώ\nΕίσοδος ανά προβολή: 5 ευρώ\nΣτις προβολές της Camera Zizanio\, η
  είσοδος είναι δωρεάν http://www.tainiothiki.gr/en/programme/calendar/even
 t/1253-23-camera-zizanio
DTSTART:20240121T150000Z
DTEND:20240121T163000Z
LOCATION:Αίθουσα Α (ΙΕΡΑ ΟΔΟΣ 48\, 104 35\, ΚΕΡΑΜΕΙΚΟΣ\, ΑΘΗΝΑ)
SUMMARY:Βραβευμένες ταινίες Ευρωπαϊκού και Διεθνούς τμήματος 23ης Camera Zi
 zanio | ΤΟ ΦΕΣΤΙΒΑΛ ΟΛΥΜΠΙΑΣ ΠΑΕΙ ΤΑΙΝΙΟΘΗΚΗ
URL:http://www.tainiothiki.gr/en/programme/calendar/event/1253-23-camera-zi
 zanio
END:VEVENT
END:VCALENDAR
