BEGIN:VCALENDAR
VERSION:2.0
PRODID:-//http://www.tainiothiki.gr///NONSGML kigkonsult.se iCalcreator 2.10.15//
METHOD:PUBLISH
BEGIN:VEVENT
UID:20260424T232809EEST-8633uhsvsL@http://www.tainiothiki.gr/
DTSTAMP:20260424T202809Z
DESCRIPTION:ΘΕΡΙΝΟΣ ΚΙΝΗΜΑΤΟΓΡΑΦΟΣ ΛΑΪΣ\nΠΕΜΠΤΗ 16/07 - ΤΕΤΑΡΤΗ 29/07\n23.0
 0  Pari Σκηνοθεσία: Σιαμάκ ΕτεμάντιΔιάρκεια: 111' Διανομή: Heretic\nΣΥΝΟΨΗ
  | Ένα ζευγάρι Ιρανών έρχονται στην Αθήνα για να επισκεφτούν τον γιο τους\
 , ο οποίος σπουδάζει στο πανεπιστήμιο. Εκείνος\, όμως\, έχει εξαφανιστεί\,
  σβήνοντας κάθε ίχνος του.\n\n\n\n-Είσοδος για όλες τις αίθουσες: 7€\, 5€*
  (μειωμένο)\nΚάθε Πέμπτη ισχύει προσφορά εισόδου για 2 άτομα με ένα εισιτή
 ριο στα 7€\n*Το μειωμένο εισιτήριο αφορά στις παρακάτω κατηγορίες:μαθητές\
 , φοιτητές\, άτομα άνω των 65 ετών\, άνεργοι\, άνθρωποι με αναπηρία – ΑμεΑ
  (ισχύει και για έναν/μία συνοδό)\, δάσκαλοι-καθηγητές\, ατέλειες.Προνόμια
  μελών σε ΜΜΕ\n-Αθηνόραμα Club (Αθηνόραμα): Από Δευτέρα έως και Πέμπτη\, ε
 ιδική τιμή € 5 http://www.tainiothiki.gr/en/programme/calendar/event/124-p
 ari
DTSTART:20200716T200000Z
DTEND:20200729T200000Z
LOCATION:Θερινό Λαΐς (ΙΕΡΑ ΟΔΟΣ 48\, 104 35\, ΚΕΡΑΜΕΙΚΟΣ\, ΑΘΗΝΑ	)
SUMMARY:Pari
URL:http://www.tainiothiki.gr/en/programme/calendar/event/124-pari
END:VEVENT
END:VCALENDAR
