BEGIN:VCALENDAR
VERSION:2.0
PRODID:-//http://www.tainiothiki.gr///NONSGML kigkonsult.se iCalcreator 2.10.15//
METHOD:PUBLISH
BEGIN:VEVENT
UID:20260425T141506EEST-34500g17b5@http://www.tainiothiki.gr/
DTSTAMP:20260425T111506Z
DESCRIPTION:ΘΕΡΙΝΟΣ ΚΙΝΗΜΑΤΟΓΡΑΦΟΣ ΛΑΪΣ\nΠΕΜΠΤΗ 16/07\n21.15 Γαϊδουροτόμαρο
  | Peau d'âne (91'\, Jacques Demy)  Η προβολή πραγματοποιείται στο πλαίσιο
  του 10ου Athens Open Air Film FestivalΕίσοδος ελεύθερη μέχρι την κάλυψη τ
 ων διαθέσιμων θέσεων. Δελτία εισόδου θα διανέμονται στην είσοδο του κινημα
 τογράφου την ίδια μέρα από τις 20.00. \n\n\nTo 4ο Θερινό Φεστιβάλ Γαλλικού
  Κινηματογράφου και το 10ο Athens Open Air Film Festival συναντώνται αυτό 
 το καλοκαίρι για να γιορτάσουν μαζί τα πενήντα χρόνια από την πρώτη κυκλοφ
 ορία του μαγευτικού και πολύχρωμου παραμυθιού του Jacques Demy.\nΗ προβολή
  θα γίνει παράλληλα σε δυο πανέμορφους θερινούς χώρους της Αθήνας\, στους 
 Κήπους της Γαλλικής Σχολής Αθηνών (Είσοδος από Διδότου 6) και στον θερινό 
 κινηματογράφο Λαΐς\, στην ταράτσα της Ταινιοθήκης της Ελλάδος (Ιερά Οδός 4
 8 &amp\; Μεγάλου Αλεξάνδρου 134-136).\nΈτσι τα δυο φεστιβάλ προσφέρουν σε 
 περισσότερους σινεφίλ την ευκαιρία να απολαύσουν αυτήν τη ξεχωριστή ταινία
  και την υπέροχη πρωταγωνίστριά της Κατρίν Ντενέβ\, διοργανώνοντας την ταυ
 τόχρονη προβολή της σε δύο διαφορετικούς χώρους στην Αθήνα \nΛίγα λόγια γι
 α την ταινία\nΟ μπλε βασιλιάς υποσχέθηκε στην ετοιμοθάνατη βασίλισσα να ξα
 ναπαντρευτεί μονάχα με γυναίκα πιο όμορφη από αυτήν. Μα σε όλο το βασίλειο
  μόνο η ίδια του η κόρη συναγωνίζεται την μητέρα της. Για να αποφύγει το γ
 άμο\, η πριγκίπισσα ζητά από τον πατέρα της τα πιο απίθανα δώρα. Όταν της 
 τα φέρνει\, απεγνωσμένη του ζητά το πιο πολύτιμο του απόκτημα: το τομάρι τ
 ου μαγικού γαϊδάρου\, πηγή της περιουσίας του βασιλείου.\n\n\nΠληροφορίες
 \nPeau d’âne/Γαϊδουροτόμαρο του Jacques Demy (1970)16 Ιουλίου 2020Παράλληλ
 η προβολή στο πλαίσιο του προγράμματος του 10ου Athens Open Air Film Festi
 val\n21.15: Κήποι της Γαλλικής Σχολής Αθηνών (Είσοδος από Διδότου 6)21.15:
  Λαΐς - Ταινιοθήκη της Ελλάδος (Ιερά Οδός 48 &amp\; Μεγάλου Αλεξάνδρου 134
 -136\, Γκάζι)\nΕίσοδος ελεύθερη μέχρι την κάλυψη των διαθέσιμων θέσεων. Ελ
 ληνικοί υπότιτλοι.\nΔιάθεση δωρεάν Δελτίων Εισόδου για την προβολή στον θε
 ρινό κινηματογράφο ΛαΐςΓια την προβολή στο θερινό σινεμά Λαΐς - Ταινιοθήκη
  της Ελλάδος τα δελτία εισόδου θα διανέμονται στην είσοδο του κινηματογράφ
 ου την ίδια μέρα από τις 20.00. \n http://www.tainiothiki.gr/en/programme/
 calendar/event/123-peau-d-ane-10-aoaff
DTSTART:20200716T181500Z
DTEND:20200716T194500Z
LOCATION:Θερινό Λαΐς (ΙΕΡΑ ΟΔΟΣ 48\, 104 35\, ΚΕΡΑΜΕΙΚΟΣ\, ΑΘΗΝΑ	)
SUMMARY:Γαϊδουροτόμαρο | Peau d'âne | 10ο AOAFF
URL:http://www.tainiothiki.gr/en/programme/calendar/event/123-peau-d-ane-10
 -aoaff
END:VEVENT
END:VCALENDAR
