BEGIN:VCALENDAR
VERSION:2.0
PRODID:-//http://www.tainiothiki.gr///NONSGML kigkonsult.se iCalcreator 2.10.15//
METHOD:PUBLISH
BEGIN:VEVENT
UID:20260425T141419EEST-7967oCxpeL@http://www.tainiothiki.gr/
DTSTAMP:20260425T111419Z
DESCRIPTION:\n\n\nΠΕΜΠΤΗ 09/07 - ΚΥΡΙΑΚΗ 12/0723.00  Don't Look Now | Μετά 
 τα μεσάνυχτα Σκηνοθεσία: Νίκολας ΡεγκΔιάρκεια: 110'Διανομή: Summer Classic
 s\n\nΜετά Τα Μεσάνυχτα - Trailer from Summer Classics on Vimeo.\nΣΥΝΟΨΗ | 
 Η μικρή κόρη του αρχιτέκτονα Μπάξτερ πνίγεται παίζοντας στην λίμνη κοντά σ
 το σπίτι τους\, χωρίς αυτός ή η γυναίκα του να μπορέσουν να την σώσουν. Πο
 λύ αργότερα όταν ο Μπάξτερ βρίσκεται σε δουλειά στην Βενετία\, η γυναίκα τ
 ου γνωρίζεται με μία τυφλή Αγγλίδα μέντιουμ\, που την ενημερώνει ότι το νε
 κρό της κοριτσάκι προειδοποίησε για έναν θανάσιμο κίνδυνο που διατρέχει ο 
 Μπάξτερ στην Βενετία. Πράγματι ο Μπάξτερ έχει ένα σχεδόν θανατηφόρο ατύχημ
 α στην εκκλησία\, που αναστηλώνει...Σκηνοθεσία: Nicolas RoegΣενάριο: Allan
  Scott\, Chris Bryant\, Based on 'Don't Look Now' by Daphne du Maurier Γλώ
 σσα: Αγγλικά | Διάρκεια: 110 λεπτάΠρωταγωνιστούν: Julie Christie\, Donald 
 SutherlandΔιανομή: Summer Classics\n\n\n\nΗ Summer Classics  ανακοινώνει τ
 ην επανέκδοση της ταινίας Μετά τα Μεσάνυχτα (Don’t Look Now – 1973) με πλή
 ρως αποκατεστημένες ψηφιακές κόπιες. Πρόκειται για το κλασικό ψυχολογικό θ
 ρίλερ\, βρετανικής και ιταλικής συμπαραγωγής σε σκηνοθεσία Νίκολας Ρεγκ\, 
 βασισμένο στην ομότιτλη ιστορία της Δάφνης Ντε Μωριέ.\nΗ ταινία θεωρείται 
 ένα από τα αριστουργήματα του είδους της\, με μεγάλες καινοτομίες στο μοντ
 άζ και το αφηγηματικό ύφος και συμπεριλαμβάνεται στις 10 καλύτερες βρετανι
 κές ταινίες του 20ου αιώνα. Το ιμπρεσιονιστικό και συμβολιστικό στυλ της τ
 αινίας την κατατάσσει ανάμεσα στους σταθμούς του παγκόσμιου κινηματογράφου
  ενώ η κλασική πλέον σεξουαλική σκηνή που περιλαμβάνει\, στην εποχή της θε
 ωρήθηκε ιδιαίτερα τολμηρή με αποτέλεσμα σε πολλές χώρες να λογοκριθεί. Έχε
 ι κερδίσει βραβείο BAFTA και έχει διακριθεί σε δεκάδες διεθνή φεστιβάλ. (R
 otten Tomatoes 94%).\n\n -Είσοδος για όλες τις αίθουσες: 7€\, 5€* (μειωμέν
 ο)Κάθε Πέμπτη ισχύει προσφορά εισόδου για 2 άτομα με ένα εισιτήριο στα 7€ 
 *Το μειωμένο εισιτήριο αφορά στις παρακάτω κατηγορίες:μαθητές\, φοιτητές\,
  άτομα άνω των 65 ετών\, άνεργοι\, άνθρωποι με αναπηρία – ΑμεΑ (ισχύει και
  για έναν/μία συνοδό)\, δάσκαλοι-καθηγητές\, ατέλειες.\nΠρονόμια μελών σε 
 ΜΜΕ-Αθηνόραμα Club (Αθηνόραμα): Από Δευτέρα έως και Πέμπτη\, ειδική τιμή €
  5\n\n\n\n\n\n\n http://www.tainiothiki.gr/en/programme/calendar/event/122
 -don-t-look-now
DTSTART:20200709T200000Z
DTEND:20200712T200000Z
LOCATION:Θερινό Λαΐς (ΙΕΡΑ ΟΔΟΣ 48\, 104 35\, ΚΕΡΑΜΕΙΚΟΣ\, ΑΘΗΝΑ	)
SUMMARY:Don't Look Now | Μετά τα μεσάνυχτα 
URL:http://www.tainiothiki.gr/en/programme/calendar/event/122-don-t-look-no
 w
END:VEVENT
END:VCALENDAR
