BEGIN:VCALENDAR
VERSION:2.0
PRODID:-//http://www.tainiothiki.gr///NONSGML kigkonsult.se iCalcreator 2.10.15//
METHOD:PUBLISH
BEGIN:VEVENT
UID:20260425T141209EEST-9994NkNRti@http://www.tainiothiki.gr/
DTSTAMP:20260425T111209Z
DESCRIPTION:ΠΑΡΑΣΚΕΥΗ 10/07 - ΚΥΡΙΑΚΗ 21/07 και ΤΡΙΤΗ 14/07 - ΤΕΤΑΡΤΗ 15/07
 \n20.50 Τhe Trial | Η Δίκη Σκηνοθεσία: Ορσον ΓουέλςΔιάρκεια: 118'Διανομή: 
 Bibliotheque\n\nThe Trial - (1962) Trailer from California Film Institute 
 on Vimeo.\nΠαραγωγή 1962 | Α/Μ | Διάρκεια: 118'\nΓαλλοϊταλική ταινία\, σκη
 νοθεσία Όρσον Γουέλς με τους: Άντονι Πέρκινς\, Ζαν Μορό\, Όρσον Γουέλς\, Α
 κιμ Ταμίροφ\, Ρόμι Σνάιντερ\n\nΣΥΝΟΨΗ | Διασκευή του κλασικού έργου του Φρ
 αντς Κάφκα που παρουσιάζει την εφιαλτική εικόνα ενός ανθρώπου που συλλαμβά
 νεται και δικάζεται για κάτι που ούτε ο ίδιος ξέρει.\nΟ Γιόζεφ Κ.\, τραπεζ
 ικός υπάλληλος\, κατακεραυνώνεται από μια σειρά γεγονότων που τον αφοπλίζο
 υν σιγά-σιγά\, τον ακυρώνουν και του στερούν κάθε βεβαιότητα\, εφόσον «τον
  πιάνουν στον ύπνο»\, τον συλλαμβάνουν χωρίς να του πουν ποτέ το γιατί. Αν
 ακρίνεται επίμονα\, σε διαδικασίες ονειρικά διαστρεβλωμένες\, προσπαθώντας
  του κάκου να ανακαλύψει τις αιτίες της ενοχής του.\nΣτα μέσα της παγκόσμι
 ας περιπλάνησής του\, και μετά την αποτυχία του στο Χόλλυγουντ\, ο Όρσον Γ
 ουέλλς\, με απόλυτη πλέον καλλιτεχνική ελευθερία\, συλλαμβάνει στις αρχές 
 του ’60 την πιο φιλόδοξη μεταφορά σε ταινία του ανολοκλήρωτου μυθιστορήματ
 ος του Φραντς Κάφκα\, πετυχαίνοντας να το εντάξει στο δικό του ασπρόμαυρο 
 εξπρεσσιονιστικό σύμπαν. Γυρισμένη στην Γιουγκοσλαβία και στο Παρίσι\, Η Δ
 ίκη είναι το αριστουργηματικό κινηματογραφικό δοκίμιο περί πολυπρόσωπης εξ
 ουσίας (Νόμος\, Τέχνη\, Εκκλησία) και θύματος\, και αυτή που ο πιο συγκλον
 ιστικός δημιουργός του 20ού αιώνα χαρακτήριζε ως την καλύτερη ταινία της ζ
 ωής του.\n\nΈνα εφιαλτικό αριστούργημα.\n\n\n -Είσοδος για όλες τις αίθουσ
 ες: 7€\, 5€* (μειωμένο)Κάθε Πέμπτη ισχύει προσφορά εισόδου για 2 άτομα με 
 ένα εισιτήριο στα 7€ *Το μειωμένο εισιτήριο αφορά στις παρακάτω κατηγορίες
 :μαθητές\, φοιτητές\, άτομα άνω των 65 ετών\, άνεργοι\, άνθρωποι με αναπηρ
 ία – ΑμεΑ (ισχύει και για έναν/μία συνοδό)\, δάσκαλοι-καθηγητές\, ατέλειες
 .\nΠρονόμια μελών σε ΜΜΕ-Αθηνόραμα Club (Αθηνόραμα): Από Δευτέρα έως και Π
 έμπτη\, ειδική τιμή € 5\n http://www.tainiothiki.gr/en/programme/calendar/
 event/120-he-trial
DTSTART:20200710T175000Z
DTEND:20200712T175000Z
LOCATION:Θερινό Λαΐς (ΙΕΡΑ ΟΔΟΣ 48\, 104 35\, ΚΕΡΑΜΕΙΚΟΣ\, ΑΘΗΝΑ	)
SUMMARY:Τhe Trial | Η Δίκη 
URL:http://www.tainiothiki.gr/en/programme/calendar/event/120-he-trial
END:VEVENT
END:VCALENDAR
