BEGIN:VCALENDAR
VERSION:2.0
PRODID:-//http://www.tainiothiki.gr///NONSGML kigkonsult.se iCalcreator 2.10.15//
METHOD:PUBLISH
BEGIN:VEVENT
UID:20260425T022348EEST-1591kk9FvF@http://www.tainiothiki.gr/
DTSTAMP:20260424T232348Z
DESCRIPTION:ΘΕΡΙΝΟΣ ΚΙΝΗΜΑΤΟΓΡΑΦΟΣ ΛΑΪΣ\nΠΕΜΠΤΗ 18/06-  ΤΕΤΑΡΤΗ 24/06*\n21:
 00 Περιφρόνηση |  Le MéprisΣκηνοθεσία: Ζαν Λυκ Γκοντάρ Διάρκεια: 102'Έτος:
  1963Διανομή: ΝΕΟ FILMS\n\nΣΥΝΟΨΗ | Ο Αμερικανός παραγωγός Τζέρεμι Πρόκος 
 (Τζακ Πάλανς) προσλαμβάνει τον γνωστό Αυστριακό σκηνοθέτη Φριτς Λανγκ (υπο
 δύεται τον εαυτό του στην ταινία) προκειμένου να μεταφέρει στον κινηματογρ
 άφο την Οδύσσεια του Ομήρου. Δυσαρεστημένος με την «καλλιτεχνική» προσέγγι
 ση που ακολουθεί ο σκηνοθέτης\, προσλαμβάνει τον Πωλ Ζαβάλ (Μισέλ Πικολί)\
 , συγγραφέα αστυνομικών ιστοριών και θεατρικών έργων\, για να επεξεργαστεί
  το σενάριο. Η σύγκρουση μεταξύ καλλιτεχνικής έκφρασης και εμπορικής απήχη
 σης ακολουθεί μια παράλληλη πορεία με την προοδευτική αποξένωση του Πωλ απ
 ό τη σύζυγο του Καμίλ (Μπριζίτ Μπαρντό) η οποία φαίνεται να ξεκινά από τη 
 στιγμή που ο Πωλ αφήνει την Καμίλ μόνη με τον εκατομμυριούχο παραγωγό.\n\n
 \n -Είσοδος για όλες τις αίθουσες: 7€\, 5€* (μειωμένο)Κάθε Πέμπτη ισχύει π
 ροσφορά εισόδου για 2 άτομα με ένα εισιτήριο στα 7€ *Το μειωμένο εισιτήριο
  αφορά στις παρακάτω κατηγορίες:μαθητές\, φοιτητές\, άτομα άνω των 65 ετών
 \, άνεργοι\, άνθρωποι με αναπηρία – ΑμεΑ (ισχύει και για έναν/μία συνοδό)\
 , δάσκαλοι-καθηγητές\, ατέλειες.\nΠρονόμια μελών σε ΜΜΕ-Αθηνόραμα Club (Αθ
 ηνόραμα): Από Δευτέρα έως και Πέμπτη\, ειδική τιμή € 5\n http://www.tainio
 thiki.gr/en/programme/calendar/event/109-le-mepris
DTSTART:20200622T180000Z
DTEND:20200624T180000Z
LOCATION:Θερινό Λαΐς (ΙΕΡΑ ΟΔΟΣ 48\, 104 35\, ΚΕΡΑΜΕΙΚΟΣ\, ΑΘΗΝΑ	)
SUMMARY:Περιφρόνηση |  Le Mépris
URL:http://www.tainiothiki.gr/en/programme/calendar/event/109-le-mepris
END:VEVENT
END:VCALENDAR
