BEGIN:VCALENDAR
VERSION:2.0
PRODID:-//http://www.tainiothiki.gr///NONSGML kigkonsult.se iCalcreator 2.10.15//
METHOD:PUBLISH
BEGIN:VEVENT
UID:20260422T155526EEST-6521Z1Kdet@http://www.tainiothiki.gr/
DTSTAMP:20260422T125526Z
DESCRIPTION:ΑΙΘΟΥΣΑ Β\nΣΑΒΒΑΤΟ 25/04 &amp\; ΚΥΡΙΑΚΗ 26/04\n17.30 Δέλτα (Βίβ
 ιαν Παπαγεωργίου\, 75') ΑυτοδιανομήΑκολουθεί συζήτηση\n\n\n\nΈνα ταξίδι στ
 ις ζωές των ψαράδων του Πηνειού.\n\nΣΥΝΟΨΗ\nΣτο Δέλτα του ποταμού Πηνειού\
 , στην σκιά του Ολύμπου\, μια μικρή κοινότητα παράκτιων ψαράδων δουλεύει α
 κούραστα για την επιβίωση. Στην ταινία κυριαρχούν χαρακτήρες δυνατοί και μ
 ε χιούμορ\, των οποίων οι ιστορίες ξεδιπλώνονται στην διάρκεια των εποχών\
 , με φόντο το νερό.\n  \n\nΕΙΣΙΤΗΡΙΑ\n-Είσοδος για όλες τις αίθουσες: 7€\,
  5€* (μειωμένο)\nΚάθε Δευτέρα ισχύει προσφορά εισόδου για 2 άτομα με ένα ε
 ισιτήριο στα 7€ από το ταμείο\n*Το μειωμένο εισιτήριο αφορά στις παρακάτω 
 κατηγορίες:μαθητές\, φοιτητές\, άτομα άνω των 65 ετών\, άνεργοι\, άνθρωποι
  με αναπηρία – ΑμεΑ (ισχύει και για έναν/μία συνοδό)\, δάσκαλοι-καθηγητές\
 , ατέλειες.\nΠρονόμια μελών σε ΜΜΕ\n-Αθηνόραμα Club (Αθηνόραμα): Από Δευτέ
 ρα έως και Πέμπτη\, ειδική τιμή € 5\nΚλείστε ηλεκτρονικά τα εισιτήριά σας 
 στο: https://tickets.tainiothiki.gr/Σημειώνεται πως οι δικαιούχοι μειωμένο
 υ εισιτηρίου\, θα πρέπει να προμηθευτούν τα εισιτήριά τους από το ταμείο τ
 ης Ταινιοθήκης. \n  http://www.tainiothiki.gr/en/component/rseventspro/eve
 nt/2325-
DTSTART:20260425T143000Z
DTEND:20260425T154500Z
LOCATION:Αίθουσα Β (ΙΕΡΑ ΟΔΟΣ 48\, 104 35\, ΚΕΡΑΜΕΙΚΟΣ\, ΑΘΗΝΑ)
SUMMARY:Δέλτα 
URL:http://www.tainiothiki.gr/en/component/rseventspro/event/2325-
END:VEVENT
END:VCALENDAR
