BEGIN:VCALENDAR
VERSION:2.0
PRODID:-//http://www.tainiothiki.gr///NONSGML kigkonsult.se iCalcreator 2.10.15//
METHOD:PUBLISH
BEGIN:VEVENT
UID:20260425T164807EEST-79552zK4oC@http://www.tainiothiki.gr/
DTSTAMP:20260425T134807Z
DESCRIPTION:Το Beyond Borders ταξιδεύει στην Αθήνα!\nΑΙΘΟΥΣΑ Α\nΚΥΡΙΑΚΗ 29/
 03 \n19:30 The Lost Season του Mehdi Ghanavati (Αργυρό Στεφάνι της Μεγίστη
 ς)\, Διεθνής Πρεμιέρα\n20:35 Clear Sky του Marcin Kundera (Χρυσός Φοίνικας
  μicro)\, Ελληνική Πρεμιέρα\, 20:35 - 20:55\nΔιάλειμμα 5’\n21:00 Κλείσιμο 
 δράσης\n\n   \nΕίσοδος ελεύθερη με τήρηση σειράς προτεραιότητας κατά την π
 ροσέλευση\n  http://www.tainiothiki.gr/en/component/rseventspro/event/2302
 -beyond-borders-3
DTSTART:20260329T163000Z
DTEND:20260329T180000Z
LOCATION:Αίθουσα Α (ΙΕΡΑ ΟΔΟΣ 48\, 104 35\, ΚΕΡΑΜΕΙΚΟΣ\, ΑΘΗΝΑ)
SUMMARY:Το Beyond Borders ταξιδεύει στην Αθήνα! - Ημέρα 3
URL:http://www.tainiothiki.gr/en/component/rseventspro/event/2302-beyond-bo
 rders-3
END:VEVENT
END:VCALENDAR
