BEGIN:VCALENDAR
VERSION:2.0
PRODID:-//http://www.tainiothiki.gr///NONSGML kigkonsult.se iCalcreator 2.10.15//
METHOD:PUBLISH
BEGIN:VEVENT
UID:20260424T094848EEST-1988xGHoNz@http://www.tainiothiki.gr/
DTSTAMP:20260424T064848Z
DESCRIPTION:ΑΙΘΟΥΣΑ Α\nΘησαυροί Ταινιοθηκών: Μία επιλογή πρόσφτατα αποκατεσ
 τημένων ταινιών\nΚυριακή 13 Απριλίου\n21:30 Χάππυ Νταίη | Happy Day (Παντε
 λής Βούλγαρης / Pantelis Voulgaris\, 105')Εισηγείται η Ηλέκτρα Βενάκη / In
 troduction by Electra Venaki\n \n\n\n   \n\n\nΕΙΣΙΤΗΡΙΑ\n6 ευρώ (γενική εί
 σοδος)\nΚλείστε ηλεκτρονικά τα εισιτήριά σας στο: https://tickets.tainioth
 iki.gr/ http://www.tainiothiki.gr/en/component/rseventspro/event/1810-n-ha
 ppy-day
DTSTART:20250413T183000Z
DTEND:20250413T201500Z
LOCATION:Αίθουσα Α (ΙΕΡΑ ΟΔΟΣ 48\, 104 35\, ΚΕΡΑΜΕΙΚΟΣ\, ΑΘΗΝΑ)
SUMMARY:Χάππυ Nταίη | Happy Day
URL:http://www.tainiothiki.gr/en/component/rseventspro/event/1810-n-happy-d
 ay
END:VEVENT
END:VCALENDAR
