BEGIN:VCALENDAR
VERSION:2.0
PRODID:-//http://www.tainiothiki.gr///NONSGML kigkonsult.se iCalcreator 2.10.15//
METHOD:PUBLISH
BEGIN:VEVENT
UID:20260425T141357EEST-36941Nr5ux@http://www.tainiothiki.gr/
DTSTAMP:20260425T111357Z
DESCRIPTION:CINEMA MADE IN ITALY/ ATHENS 2024\nΑΙΘΟΥΣΑ Α\nΠέμπτη 21 Νοεμβρί
 ου \n19:00 Πεδίο μάχης | Battleground (Gianni Amelio\, 104')\n\n\n\nΕΙΣΙΤΗ
 ΡΙΑ\nΕισιτήριο: 5€. Κάρτα 3 προβολών: 10€\nΗλεκτρονική προπώληση: https://
 tickets.tainiothiki.gr/\n\n \n http://www.tainiothiki.gr/en/component/rsev
 entspro/event/1577-c-battleground
DTSTART:20241121T170000Z
DTEND:20241121T184500Z
LOCATION:Αίθουσα Α (ΙΕΡΑ ΟΔΟΣ 48\, 104 35\, ΚΕΡΑΜΕΙΚΟΣ\, ΑΘΗΝΑ)
SUMMARY:CΜΙΙ/ Πεδίο μάχης | Battleground
URL:http://www.tainiothiki.gr/en/component/rseventspro/event/1577-c-battleg
 round
END:VEVENT
END:VCALENDAR
