BEGIN:VCALENDAR
VERSION:2.0
PRODID:-//http://www.tainiothiki.gr///NONSGML kigkonsult.se iCalcreator 2.10.15//
METHOD:PUBLISH
BEGIN:VEVENT
UID:20260423T190852EEST-3795BaA0Lj@http://www.tainiothiki.gr/
DTSTAMP:20260423T160852Z
DESCRIPTION:ΑΙΘΟΥΣΑ Α\n CINEMA MADE IN ITALY/ ATHENS 2023\nΤΡΙΤΗ 24/10\n\n1
 9:30 Όμορφο καλοκαίρι / La bella estate /Beautiful Summer (Laura Luchetti 
 111'\, 2023)\n\n\n\n\n\n\nΕΙΣΙΤΗΡΙΑ CINEMA MADE IN ITALY:\n\nΗλεκτρονική π
 ροπώληση: https://tickets.tainiothiki.gr/\nΕισιτήριο: 5€. Κάρτα 3 προβολών
 : 10€\n\nΚΑΤΑΛΟΓΟΣ - ΠΡΟΓΡΑΜΜΑ\nΟι ταινίες προβάλλονται με ελληνικούς και 
 αγγλικούς υπότιτλους. http://www.tainiothiki.gr/en/component/rseventspro/e
 vent/1131-la-bella-estate-beautiful-summer
DTSTART:20231024T163000Z
DTEND:20231024T183000Z
LOCATION:Αίθουσα Α (ΙΕΡΑ ΟΔΟΣ 48\, 104 35\, ΚΕΡΑΜΕΙΚΟΣ\, ΑΘΗΝΑ)
SUMMARY:Όμορφο καλοκαίρι / La bella estate / Beautiful Summer 
URL:http://www.tainiothiki.gr/en/component/rseventspro/event/1131-la-bella-
 estate-beautiful-summer
END:VEVENT
END:VCALENDAR
