BEGIN:VCALENDAR
VERSION:2.0
PRODID:-//http://www.tainiothiki.gr///NONSGML kigkonsult.se iCalcreator 2.10.15//
METHOD:PUBLISH
BEGIN:VEVENT
UID:20260423T173735EEST-4728x1aJj3@http://www.tainiothiki.gr/
DTSTAMP:20260423T143735Z
DESCRIPTION:Ο δράκος\nΣκηνοθεσία: Νίκος ΚούνδουροςΔιάρκεια: 103'Έτος: 1956
 \nΜια συμμορία αναζητά αρχηγό και πιστεύει σε ένα φουκαρά\, που πιάνεται σ
 την παγίδα της ψεύτικης εξουσίας.\nΔείτε την ταινία από 2 - 5 Μαΐου 2020 ε
 δώ. \nΠροβολή στο πλαίσιο του αφιερώματος 'Η Ταινιοθήκη στο σπίτι ΙΙ'\n ht
 tp://www.tainiothiki.gr/el/component/rseventspro/event/95-o-drakos-i-taini
 othiki-sto-spiti-ii
DTSTART:20200502T170000Z
DTEND:20200505T170000Z
LOCATION:Στο σπίτι ()
SUMMARY:Ο δράκος | Η Ταινιοθήκη στο σπίτι ΙΙ
URL:http://www.tainiothiki.gr/el/component/rseventspro/event/95-o-drakos-i-
 tainiothiki-sto-spiti-ii
END:VEVENT
END:VCALENDAR
