BEGIN:VCALENDAR
VERSION:2.0
PRODID:-//http://www.tainiothiki.gr///NONSGML kigkonsult.se iCalcreator 2.10.15//
METHOD:PUBLISH
BEGIN:VEVENT
UID:20260423T190939EEST-1770TviLdj@http://www.tainiothiki.gr/
DTSTAMP:20260423T160939Z
DESCRIPTION:ΜΑΡΤΑ ΜΕΣΑΡΟΣ: Η γυναίκα στο επίκεντρο της Ιστορίας\nΤρίτη 24/1
 \n21.30 Οι κληρονόμοι (The Heiresses\, 1980\, 109’)\nΠρολογίζει η σκηνοθέτ
 ης-συγγραφέας Ελισάβετ Χρονοπούλου\n\n\n Περισσότερα για το αφιέρωμα εδώ.
 \nΓενική είσοδος: 5€\nΗλεκτρονική προπώληση: tickets.tainiothiki.gr\nΤαινι
 οθήκη της ΕλλάδοςΙερά Οδός 48 και Μεγάλου Αλεξάνδρου\, μετρό Κεραμεικός\, 
 τηλ. 210 3612046 http://www.tainiothiki.gr/el/component/rseventspro/event/
 931-oi-klironomoi-the-heiresses-marta-mesaros
DTSTART:20230124T193000Z
DTEND:20230124T213000Z
LOCATION:Αίθουσα Α (ΙΕΡΑ ΟΔΟΣ 48\, 104 35\, ΚΕΡΑΜΕΙΚΟΣ\, ΑΘΗΝΑ)
SUMMARY:Οι κληρονόμοι - The Heiresses | ΜΑΡΤΑ ΜΕΣΑΡΟΣ
URL:http://www.tainiothiki.gr/el/component/rseventspro/event/931-oi-klirono
 moi-the-heiresses-marta-mesaros
END:VEVENT
END:VCALENDAR
