BEGIN:VCALENDAR
VERSION:2.0
PRODID:-//http://www.tainiothiki.gr///NONSGML kigkonsult.se iCalcreator 2.10.15//
METHOD:PUBLISH
BEGIN:VEVENT
UID:20260423T191114EEST-0975FLhfVB@http://www.tainiothiki.gr/
DTSTAMP:20260423T161114Z
DESCRIPTION:ΜΑΡΤΑ ΜΕΣΑΡΟΣ: Η γυναίκα στο επίκεντρο της Ιστορίας\nΠαρασκευή 
 20/1\n21.30 Ημερολόγιο για τη μητέρα και τον πατέρα μου (Diary for my moth
 er and father\, 1990\, 115’)\nΠρολογίζει η ηθοποιός-παραγωγός Ρομάνα Λόμπα
 τς\n\n\n Περισσότερα για το αφιέρωμα εδώ.\nΓενική είσοδος: 5€\nΗλεκτρονική
  προπώληση: tickets.tainiothiki.gr\nΤαινιοθήκη της ΕλλάδοςΙερά Οδός 48 και
  Μεγάλου Αλεξάνδρου\, μετρό Κεραμεικός\, τηλ. 210 3612046 http://www.taini
 othiki.gr/el/component/rseventspro/event/923-imerologio-gia-ti-mitera-kai-
 ton-patera-mou-diary-for-my-mother-and-father-marta-mesaros
DTSTART:20230120T193000Z
DTEND:20230120T213000Z
LOCATION:Αίθουσα Α (ΙΕΡΑ ΟΔΟΣ 48\, 104 35\, ΚΕΡΑΜΕΙΚΟΣ\, ΑΘΗΝΑ)
SUMMARY:Ημερολόγιο για τη μητέρα και τον πατέρα μου - Diary for my mother a
 nd father | ΜΑΡΤΑ ΜΕΣΑΡΟΣ
URL:http://www.tainiothiki.gr/el/component/rseventspro/event/923-imerologio
 -gia-ti-mitera-kai-ton-patera-mou-diary-for-my-mother-and-father-marta-mes
 aros
END:VEVENT
END:VCALENDAR
