BEGIN:VCALENDAR
VERSION:2.0
PRODID:-//http://www.tainiothiki.gr///NONSGML kigkonsult.se iCalcreator 2.10.15//
METHOD:PUBLISH
BEGIN:VEVENT
UID:20260424T185720EEST-8781fFh7zU@http://www.tainiothiki.gr/
DTSTAMP:20260424T155720Z
DESCRIPTION:ΜΑΡΤΑ ΜΕΣΑΡΟΣ: Η γυναίκα στο επίκεντρο της Ιστορίας\nΠέμπτη 19/
 1 \n21.30 9 μήνες (Nine Months\, 1976\, 90’) \nΠρολογίζει η σκηνοθέτης Νικ
 ολέτα Λεούση \n\n\n Περισσότερα για το αφιέρωμα εδώ.\nΓενική είσοδος: 5€\n
 Ηλεκτρονική προπώληση: tickets.tainiothiki.gr\nΤαινιοθήκη της ΕλλάδοςΙερά 
 Οδός 48 και Μεγάλου Αλεξάνδρου\, μετρό Κεραμεικός\, τηλ. 210 3612046 http:
 //www.tainiothiki.gr/el/component/rseventspro/event/921-9-mines-nine-month
 s-marta-mesaros
DTSTART:20230119T193000Z
DTEND:20230119T210000Z
LOCATION:Αίθουσα Α (ΙΕΡΑ ΟΔΟΣ 48\, 104 35\, ΚΕΡΑΜΕΙΚΟΣ\, ΑΘΗΝΑ)
SUMMARY:9 μήνες - Nine Months | ΜΑΡΤΑ ΜΕΣΑΡΟΣ
URL:http://www.tainiothiki.gr/el/component/rseventspro/event/921-9-mines-ni
 ne-months-marta-mesaros
END:VEVENT
END:VCALENDAR
