BEGIN:VCALENDAR
VERSION:2.0
PRODID:-//http://www.tainiothiki.gr///NONSGML kigkonsult.se iCalcreator 2.10.15//
METHOD:PUBLISH
BEGIN:VEVENT
UID:20260424T163051EEST-84292TVN8u@http://www.tainiothiki.gr/
DTSTAMP:20260424T133051Z
DESCRIPTION:Ο αγαπητικός της βοσκοπούλαςΣκηνοθεσία: Δημήτρης Τσακίρης\, Ηλί
 ας ΠαρασκευάςΔιάρκεια: 58’Έτος: 1931Δείτε την ταινία από 17 -20 Απριλίου 2
 020 εδώ. \nΠροβολή στο πλαίσιο του αφιερώματος 'Η Ταινιοθήκη στο σπίτι'\n 
 http://www.tainiothiki.gr/el/component/rseventspro/event/89-o-agapitikos-t
 is-voskopoylas-i-tainiothiki-sto-spiti
DTSTART:20200417T170000Z
DTEND:20200420T170000Z
LOCATION:Στο σπίτι ()
SUMMARY:Ο αγαπητικός της βοσκοπούλας | Η Ταινιοθήκη στο σπίτι
URL:http://www.tainiothiki.gr/el/component/rseventspro/event/89-o-agapitiko
 s-tis-voskopoylas-i-tainiothiki-sto-spiti
END:VEVENT
END:VCALENDAR
