BEGIN:VCALENDAR
VERSION:2.0
PRODID:-//http://www.tainiothiki.gr///NONSGML kigkonsult.se iCalcreator 2.10.15//
METHOD:PUBLISH
BEGIN:VEVENT
UID:20260424T054716EEST-4179lc8cps@http://www.tainiothiki.gr/
DTSTAMP:20260424T024716Z
DESCRIPTION:ΠΑΝΤΕΛΗΣ ΒΟΥΛΓΑΡΗΣ: Ρετροσπεκτίβα \nΑΙΘΟΥΣΑ Α\nΠΑΡΑΣΚΕΥΗ 09/12
 \n21:15 Ακροπόλ (125’\, αγγλικοί υπότιτλοι/with English subtitles)\nΠρολογ
 ίζουν οι Άντζελα Γκερέκου-ηθοποιός-Πρόεδρος ΕΟΤ\, Διονύσης Φωτόπουλος-σκην
 ογράφος\n\n\n\nΚατεβάστε το πρόγραμμα εδώ\nΓενική είσοδος: 5€Ηλεκτρονική π
 ροπώληση: tickets.tainiothiki.gr\nΜάθετε περισσότερα εδώ\n http://www.tain
 iothiki.gr/el/component/rseventspro/event/870-akropol-english-subs-panteli
 s-voulgaris-retrospektiva
DTSTART:20221209T191500Z
DTEND:20221209T213000Z
LOCATION:Αίθουσα Α (ΙΕΡΑ ΟΔΟΣ 48\, 104 35\, ΚΕΡΑΜΕΙΚΟΣ\, ΑΘΗΝΑ)
SUMMARY:Ακροπόλ (English subs) | ΠΑΝΤΕΛΗΣ ΒΟΥΛΓΑΡΗΣ: Ρετροσπεκτίβα
URL:http://www.tainiothiki.gr/el/component/rseventspro/event/870-akropol-en
 glish-subs-pantelis-voulgaris-retrospektiva
END:VEVENT
END:VCALENDAR
