BEGIN:VCALENDAR
VERSION:2.0
PRODID:-//http://www.tainiothiki.gr///NONSGML kigkonsult.se iCalcreator 2.10.15//
METHOD:PUBLISH
BEGIN:VEVENT
UID:20260424T134949EEST-9037l7DVls@http://www.tainiothiki.gr/
DTSTAMP:20260424T104949Z
DESCRIPTION:ΑστέρωΣκηνοθεσία: Γαζιάδης ΔημήτρηςΔιάρκεια: 57’Έτος: 1929\nΔεί
 τε την ταινία από 11-14 Απριλίου εδώ. \nΠροβολή στο πλαίσιο του αφιερώματο
 ς 'Η Ταινιοθήκη στο σπίτι'\n http://www.tainiothiki.gr/el/component/rseven
 tspro/event/87-astero-i-tainiothiki-sto-spiti
DTSTART:20200411T170000Z
DTEND:20200414T170000Z
LOCATION:Στο σπίτι ()
SUMMARY:Αστέρω | Η Ταινιοθήκη στο σπίτι
URL:http://www.tainiothiki.gr/el/component/rseventspro/event/87-astero-i-ta
 iniothiki-sto-spiti
END:VEVENT
END:VCALENDAR
