BEGIN:VCALENDAR
VERSION:2.0
PRODID:-//http://www.tainiothiki.gr///NONSGML kigkonsult.se iCalcreator 2.10.15//
METHOD:PUBLISH
BEGIN:VEVENT
UID:20260424T145806EEST-6209uExcVo@http://www.tainiothiki.gr/
DTSTAMP:20260424T115806Z
DESCRIPTION:\n\n\n\nΚινηματογραφικό φεστιβάλ: ΣΑΡΑΜΑΓΚΟΥ 100 \nΣάββατο 12 
 Νοεμβρίου\n19.00 O Ζοζέ και η Πιλάρ (José and Pilar\, José e Pilar\, 20
 10\, 117’)\nΠερισσότερα για την ταινία εδώ\n\n\nΚατεβάστε τον Κατάλογο &am
 p\; το Πρόγραμμα:http://www.tainiothiki.gr/docs/saramago100-catalogue.pdf
 \nΜάθετε περισσότερα για το φεστιβάλ:https://bit.ly/tainiothikigr-saramago
 100\nΓια να μπορέσουν να το απολαύσουν όλοι\, οι ταινίες θα είναι υποτιτλι
 σμένες τόσο στα αγγλικά όσο και στα ελληνικά.\n\n\n\n\n\n\n http://www.tai
 niothiki.gr/el/component/rseventspro/event/824-o-zoze-kai-i-pilar-jose-and
 -pilar-saramagkou-100
DTSTART:20221112T170000Z
DTEND:20221112T190000Z
LOCATION:Αίθουσα Α (ΙΕΡΑ ΟΔΟΣ 48\, 104 35\, ΚΕΡΑΜΕΙΚΟΣ\, ΑΘΗΝΑ)
SUMMARY:O Ζοζέ και η Πιλάρ | José and Pilar - ΣΑΡΑΜΑΓΚΟΥ 100
URL:http://www.tainiothiki.gr/el/component/rseventspro/event/824-o-zoze-kai
 -i-pilar-jose-and-pilar-saramagkou-100
END:VEVENT
END:VCALENDAR
