BEGIN:VCALENDAR
VERSION:2.0
PRODID:-//http://www.tainiothiki.gr///NONSGML kigkonsult.se iCalcreator 2.10.15//
METHOD:PUBLISH
BEGIN:VEVENT
UID:20260424T154959EEST-5941tUfdUB@http://www.tainiothiki.gr/
DTSTAMP:20260424T124959Z
DESCRIPTION:ΑΙΘΟΥΣΑ Α\nΛάκης Παπαστάθης - Σε πρώτο πλάνο\nΣάββατο 26 Απριλί
 ου\n21:15Περιπτώσεις του Όχι (1965\, 11')\nΘεόφιλος (1987\, 115')Προλογίζε
 ι ο ηθοποιός Δημήτρης Καταλειφός\n\n\n\n\n   \n\n\nΕΙΣΙΤΗΡΙΑ\n6 ευρώ (γενι
 κή είσοδος)\nΚλείστε ηλεκτρονικά τα εισιτήριά σας στο: https://tickets.tai
 niothiki.gr/ http://www.tainiothiki.gr/el/component/rseventspro/event/1824
 -periptoseis-tou-oxi-theofilos
DTSTART:20250426T181500Z
DTEND:20250426T201000Z
LOCATION:Αίθουσα Α (ΙΕΡΑ ΟΔΟΣ 48\, 104 35\, ΚΕΡΑΜΕΙΚΟΣ\, ΑΘΗΝΑ)
SUMMARY:Περιπτώσεις του Όχι & Θεόφιλος
URL:http://www.tainiothiki.gr/el/component/rseventspro/event/1824-periptose
 is-tou-oxi-theofilos
END:VEVENT
END:VCALENDAR
