BEGIN:VCALENDAR
VERSION:2.0
PRODID:-//http://www.tainiothiki.gr///NONSGML kigkonsult.se iCalcreator 2.10.15//
METHOD:PUBLISH
BEGIN:VEVENT
UID:20260422T160004EEST-4725xDbJx0@http://www.tainiothiki.gr/
DTSTAMP:20260422T130004Z
DESCRIPTION:Κυριακή | Sunday 13.09.2020\n20:30 Έντβαρντ Μουνκ | Edvard Munc
 h\, Peter Watkins\, 220'\, 1974\nΠροβολή στο πλαίσιο του αφιερώματος Art +
  Docs: Στο μυαλό του καλλιτέχνη\n\n\n\n\n\nΕισιτήρια 5.00€ από το ταμείο τ
 ης Ταινιοθήκης.\n\n\n http://www.tainiothiki.gr/el/component/rseventspro/e
 vent/148-entvarnt-mounk-edvard-munch
DTSTART:20200913T173000Z
DTEND:20200913T205000Z
LOCATION:Θερινό Λαΐς (ΙΕΡΑ ΟΔΟΣ 48\, 104 35\, ΚΕΡΑΜΕΙΚΟΣ\, ΑΘΗΝΑ	)
SUMMARY:Έντβαρντ Μουνκ | Edvard Munch
URL:http://www.tainiothiki.gr/el/component/rseventspro/event/148-entvarnt-m
 ounk-edvard-munch
END:VEVENT
END:VCALENDAR
