BEGIN:VCALENDAR
VERSION:2.0
PRODID:-//http://www.tainiothiki.gr///NONSGML kigkonsult.se iCalcreator 2.10.15//
METHOD:PUBLISH
BEGIN:VEVENT
UID:20260421T210321EEST-7320zBUoFu@http://www.tainiothiki.gr/
DTSTAMP:20260421T180321Z
DESCRIPTION:Σάββατο | Saturday 12.09.2020\n20:30 A Bigger Splash\, Jack Haz
 an\, 106'\, 1974\nΠροβολή στο πλαίσιο του αφιερώματος Art + Docs: Στο μυαλ
 ό του καλλιτέχνη\n\n\n\n\n\nΕισιτήρια 5.00€ από το ταμείο της Ταινιοθήκης.
 \n\n\n http://www.tainiothiki.gr/el/component/rseventspro/event/146-a-bigg
 er-splash
DTSTART:20200912T173000Z
DTEND:20200912T192000Z
LOCATION:Θερινό Λαΐς (ΙΕΡΑ ΟΔΟΣ 48\, 104 35\, ΚΕΡΑΜΕΙΚΟΣ\, ΑΘΗΝΑ	)
SUMMARY:A Bigger Splash
URL:http://www.tainiothiki.gr/el/component/rseventspro/event/146-a-bigger-s
 plash
END:VEVENT
END:VCALENDAR
