BEGIN:VCALENDAR
VERSION:2.0
PRODID:-//http://www.tainiothiki.gr///NONSGML kigkonsult.se iCalcreator 2.10.15//
METHOD:PUBLISH
BEGIN:VEVENT
UID:20260420T122727EEST-2128nmgSRv@http://www.tainiothiki.gr/
DTSTAMP:20260420T092727Z
DESCRIPTION:K-Crime\nΘΕΡΙΝΟΣ ΚΙΝΗΜΑΤΟΓΡΑΦΟΣ ΛΑΪΣ\nΠέμπτη 04 Ιουλίου\n23:15 
 Χαν Γκονγκ-Τζου | Han Gong-ju (Λι Σου-Τζιν | Lee Su-jin\, 2013\, 112΄)\n 
 \n\n\n\n\nΕΙΣΙΤΗΡΙΑ\nΕισιτήριο: 6€ ανά προβολή Κάρτα 3 προβολών / 12 €\nΗλ
 εκτρονική προπώληση: https://tickets.tainiothiki.gr/\nΣημειώνεται πως η κά
 ρτα πολλαπλών προβολών είναι διαθέσιμη μόνο από το φυσικό ταμείο της Ταινι
 οθήκης. \n http://www.tainiothiki.gr/el/component/rseventspro/event/1453-x
 an-gongk-tzou-han-gong-ju
DTSTART:20240704T201500Z
DTEND:20240704T205900Z
LOCATION:Θερινό Λαΐς (ΙΕΡΑ ΟΔΟΣ 48\, 104 35\, ΚΕΡΑΜΕΙΚΟΣ\, ΑΘΗΝΑ	)
SUMMARY:Χαν Γκονγκ-Τζου | Han Gong-ju 
URL:http://www.tainiothiki.gr/el/component/rseventspro/event/1453-xan-gongk
 -tzou-han-gong-ju
END:VEVENT
END:VCALENDAR
