BEGIN:VCALENDAR
VERSION:2.0
PRODID:-//http://www.tainiothiki.gr///NONSGML kigkonsult.se iCalcreator 2.10.15//
METHOD:PUBLISH
BEGIN:VEVENT
UID:20260424T134934EEST-16792w0DRF@http://www.tainiothiki.gr/
DTSTAMP:20260424T104934Z
DESCRIPTION:Αστυγραφίες στην Οθόνη\nΑΙΘΟΥΣΑ Α\nΚυριακή 14 Απριλίου \n18:00 
 Ναι μεν\, αλλά…\n(Παύλος Τάσιος\, 82’)\n\n\n\n\nΕΙΣΙΤΗΡΙΑ\nΕισιτήριο: 5€ α
 νά προβολή Κάρτα 3 προβολών / 10 €\nΗλεκτρονική προπώληση: https://tickets
 .tainiothiki.gr/\nΣημειώνεται πως η κάρτα πολλαπλών προβολών είναι διαθέσι
 μη μόνο από το φυσικό ταμείο της Ταινιοθήκης. \n http://www.tainiothiki.gr
 /el/component/rseventspro/event/1395-nai-men-alla
DTSTART:20240414T150000Z
DTEND:20240414T163000Z
LOCATION:Αίθουσα Α (ΙΕΡΑ ΟΔΟΣ 48\, 104 35\, ΚΕΡΑΜΕΙΚΟΣ\, ΑΘΗΝΑ)
SUMMARY:Ναι μεν αλλά…
URL:http://www.tainiothiki.gr/el/component/rseventspro/event/1395-nai-men-a
 lla
END:VEVENT
END:VCALENDAR
