BEGIN:VCALENDAR
VERSION:2.0
PRODID:-//http://www.tainiothiki.gr///NONSGML kigkonsult.se iCalcreator 2.10.15//
METHOD:PUBLISH
BEGIN:VEVENT
UID:20260424T135413EEST-2247FCnvuD@http://www.tainiothiki.gr/
DTSTAMP:20260424T105413Z
DESCRIPTION:Radio Nights\nΣάββατο 8 Ιουλίου \n20.45 Η ΕΚΠΟΜΠΗ Ελλάδα | 1968
  | 23’ | ΜΙΚΡΟΥ ΜΗΚΟΥΣ |  Ασπρόμαυρη\nΜΕΡΕΣ ΡΑΔΙΟΦΩΝΟΥ (Radio Days)ΗΠΑ | 1
 987 | 84’ | Κωμωδία | Έγχρωμη\n\n\n\nΠερισσότερα για το αφιέρωμα και τις τ
 αινίες εδώ\nΤοποθεσία: Ταινιοθήκη της Ελλάδος - Ιερά Οδός 48 και Μεγάλου Α
 λεξάνδρου\, μετρό Κεραμεικός\, τηλ. 210 3612046\nΗμερομηνίες: Πέμπτη 6 έως
  Τρίτη 11 Ιουλίου\, 2023\nΕισιτήρια: 5 ευρώ (ανά προβολή –στην τιμή περιλα
 μβάνεται και η ταινία μικρού μήκους του συγκεκριμένου προγράμματος) / 10 ε
 υρώ (4 προβολές) / Άνεργοι\, ΑμεΑ (και οι συνοδοί τους): ελεύθερη είσοδος.
 \nΠροπώληση: tickets.tainiothiki.gr\n  http://www.tainiothiki.gr/el/compon
 ent/rseventspro/event/1075-meres-radiofonou-radio-days-i-ekpompi-radio-nig
 hts
DTSTART:20230708T174500Z
DTEND:20230708T194500Z
LOCATION:Θερινό Λαΐς (ΙΕΡΑ ΟΔΟΣ 48\, 104 35\, ΚΕΡΑΜΕΙΚΟΣ\, ΑΘΗΝΑ	)
SUMMARY:Μέρες ραδιοφώνου (Radio Days) & Η Εκπομπή | RADIO NIGHTS
URL:http://www.tainiothiki.gr/el/component/rseventspro/event/1075-meres-rad
 iofonou-radio-days-i-ekpompi-radio-nights
END:VEVENT
END:VCALENDAR
