BEGIN:VCALENDAR
VERSION:2.0
PRODID:-//http://www.tainiothiki.gr///NONSGML kigkonsult.se iCalcreator 2.10.15//
METHOD:PUBLISH
BEGIN:VEVENT
UID:20260423T155402EEST-0544juktjR@http://www.tainiothiki.gr/
DTSTAMP:20260423T125402Z
DESCRIPTION:Ηλεκτρικός άγγελοςΣκηνοθεσία: Θανάσης ΡεντζήςΔιάρκεια: 86'Έτος:
  1981\nΈνα οπτικοακουστικό ποίημα που με παιγνιώδη τρόπο  αναπαριστά την π
 ολυμορφία του ερωτισμού.\nΔείτε την ταινία από 17-20 Μαΐου 2020 εδώ. \n*H 
 ταινία είναι ακατάλληλη για ηλικίες κάτω των 16 ετών.*\nΠροβολή στο πλαίσι
 ο του αφιερώματος 'Η Ταινιοθήκη στο σπίτι ΙΙΙ'\n http://www.tainiothiki.gr
 /el/component/rseventspro/event/103-ilektrikos-aggelos-i-tainiothiki-sto-s
 piti-iii
DTSTART:20200517T170000Z
DTEND:20200520T170000Z
LOCATION:Στο σπίτι ()
SUMMARY:Ηλεκτρικός άγγελος | Η Ταινιοθήκη στο σπίτι ΙΙΙ
URL:http://www.tainiothiki.gr/el/component/rseventspro/event/103-ilektrikos
 -aggelos-i-tainiothiki-sto-spiti-iii
END:VEVENT
END:VCALENDAR
