BEGIN:VCALENDAR
VERSION:2.0
PRODID:-//http://www.tainiothiki.gr///NONSGML kigkonsult.se iCalcreator 2.10.15//
METHOD:PUBLISH
BEGIN:VEVENT
UID:20260422T233254EEST-2491JsZuF5@http://www.tainiothiki.gr/
DTSTAMP:20260422T203254Z
DESCRIPTION:Το Beyond Borders ταξιδεύει στην Αθήνα!\nΑΙΘΟΥΣΑ Α\nΣΑΒΒΑΤΟ 28/
 03 \n18.00 Masterclass Pitch It! με την Claudia SchreinerΗ εγγραφή είναι υ
 ποχρεωτική και μπορείτε να δηλώσετε συμμετοχή ΕΔΩ.\n19:30 Σμιλεμένες Ψυχές
  του Σταύρου Ψυλλάκη (Βραβείο ΕΚΚΟΜΕΔ Καλύτερου Ελληνικού Ντοκιμαντέρ)QnA 
 με τον σκηνοθέτη Σταύρο Ψυλλάκη\, 15’\n21:15 Letters from Wolf Street του 
 Arjun Talwarης (Αργυρό Στεφάνι της Μεγίστης)\, Ελληνική Πρεμιέρα\n23:00 Si
 mply Divine των Mélody Boulissière &amp\; Bogdan Stamatin (Αργυρός Φοίνικα
 ς μicro)\n\n   \nΕίσοδος ελεύθερη με τήρηση σειράς προτεραιότητας κατά την
  προσέλευση\n  http://www.tainiothiki.gr/el/aithouses/programma/event/2301
 -to-beyond-borders-taksideyei-stin-athina-imera-2
DTSTART:20260328T160000Z
DTEND:20260328T211500Z
LOCATION:Αίθουσα Α (ΙΕΡΑ ΟΔΟΣ 48\, 104 35\, ΚΕΡΑΜΕΙΚΟΣ\, ΑΘΗΝΑ)
SUMMARY:Το Beyond Borders ταξιδεύει στην Αθήνα! - Ημέρα 2
URL:http://www.tainiothiki.gr/el/aithouses/programma/event/2301-to-beyond-b
 orders-taksideyei-stin-athina-imera-2
END:VEVENT
END:VCALENDAR
