BEGIN:VCALENDAR
VERSION:2.0
PRODID:-//http://www.tainiothiki.gr///NONSGML kigkonsult.se iCalcreator 2.10.15//
METHOD:PUBLISH
BEGIN:VEVENT
UID:20260422T233334EEST-6160dv3JCn@http://www.tainiothiki.gr/
DTSTAMP:20260422T203334Z
DESCRIPTION:ΑΙΘΟΥΣΑ Α\nΣΑΒΒΑΤΟ 21/03 \n17:30 Via: Πελαγία Κυριαζή (Γιάννης 
 Κατωμερής\, 45')\nΑκολουθεί συζήτηση με τους Ελισάβετ Κοτζιά\, κριτικό λογ
 οτεχνίας\, και Θανάση Μουτσόπουλο\, ιστορικό τέχνης και καθηγητή ΕΜΠ\nΕίσο
 δος ελεύθερη\n\n\n\n\n\n\n  http://www.tainiothiki.gr/el/aithouses/program
 ma/event/2286-via-pelagia-kyriazi
DTSTART:20260321T153000Z
DTEND:20260321T163000Z
LOCATION:Αίθουσα Α (ΙΕΡΑ ΟΔΟΣ 48\, 104 35\, ΚΕΡΑΜΕΙΚΟΣ\, ΑΘΗΝΑ)
SUMMARY:Via: Πελαγία Κυριαζή 
URL:http://www.tainiothiki.gr/el/aithouses/programma/event/2286-via-pelagia
 -kyriazi
END:VEVENT
END:VCALENDAR
