BEGIN:VCALENDAR
VERSION:2.0
PRODID:-//http://www.tainiothiki.gr///NONSGML kigkonsult.se iCalcreator 2.10.15//
METHOD:PUBLISH
BEGIN:VEVENT
UID:20260420T170534EEST-6444HVIT5B@http://www.tainiothiki.gr/
DTSTAMP:20260420T140534Z
DESCRIPTION:ΑΙΘΟΥΣΑ Α\nΤΕΤΑΡΤΗ 25/02\nWIFT GR Πανόραμα Ταινιών Μικρού Μήκου
 ς\nΕίσοδος ελεύθερη \n18:00 (προσέλευση) 18:30 (έναρξη)\nWIFT GR Seminar: 
 Παρουσίαση του Προγράμματος Μικροφίλμ της ΕΡΤ\, από τον κ.Ηλία Δημητρίου\,
  Υπεύθυνο του Προγράμματος Μικροφίλμ. Απαραίτητη η προκράτηση θέσης στη φό
 ρμα. Θα τηρηθεί σειρά προτεραιότητας. Θα ακολουθήσει συζήτηση με το κοινό.
 \n19:30 (προσέλευση) 20:00 (έναρξη)\nWIFT GR Seminar: Παρουσίαση των νέων 
 προγραμμάτων χρηματοδότησης κινηματογραφικών έργων μικρού μήκους της Διεύθ
 υνσης Ανάπτυξης και Παραγωγής του Ε.Κ.Κ.Ο.ΜΕ.Δ. – Creative Greece από την 
 κα. Ζωή Κανδύλα\, Επικεφαλή Μονάδας Ανάπτυξης και Παραγωγής Ελληνικού Κινη
 ματογράφου.Απαραίτητη η προκράτηση θέσης στη φόρμα. Θα τηρηθεί σειρά προτε
 ραιότητας. Θα ακολουθήσει συζήτηση με το κοινό και σύντομο wine break.\n22
 :00 – 23:30 Προβολή των βραβευμένων ταινιών του WIFT GR από τα τρία χρόνια
  του διαγωνιστικού τμήματος «Μικρές Γυναικείες Ιστορίες». \nΟ έρωτας στα χ
 ρόνια της γιαγιάς μου – Love in the Time of My Grandma - Ζωή Σταυρίδη-Μιχα
 λοπούλου\, 33’Άγρια – Wild - Ελένη Βεργέτη\, 15’400 κασέτες – 400 cassette
 s - Θέλγια Πετράκη\, 14’Zange - Ίρις Μπαγλανέα\, 17’Nothing Holier Than A 
 Dolphin - Ισαβέλλα Μαργάρα\, 17’\n\n\n http://www.tainiothiki.gr/el/aithou
 ses/programma/event/2240-wift-gr-panorama-tainion-mikroy-mikous
DTSTART:20260225T160000Z
DTEND:20260225T215900Z
LOCATION:Αίθουσα Α (ΙΕΡΑ ΟΔΟΣ 48\, 104 35\, ΚΕΡΑΜΕΙΚΟΣ\, ΑΘΗΝΑ)
SUMMARY:WIFT GR Πανόραμα Ταινιών Μικρού Μήκους
URL:http://www.tainiothiki.gr/el/aithouses/programma/event/2240-wift-gr-pan
 orama-tainion-mikroy-mikous
END:VEVENT
END:VCALENDAR
