BEGIN:VCALENDAR
VERSION:2.0
PRODID:-//http://www.tainiothiki.gr///NONSGML kigkonsult.se iCalcreator 2.10.15//
METHOD:PUBLISH
BEGIN:VEVENT
UID:20260420T183913EEST-7030oVMGCk@http://www.tainiothiki.gr/
DTSTAMP:20260420T153913Z
DESCRIPTION:ΑΙΘΟΥΣΑ Β\nΠΕΜΠΤΗ 19/02 - ΣΑΒΒΑΤΟ 21/02 &amp\; ΔΕΥΤΕΡΑ 23/02 - 
 ΤΕΤΑΡΤΗ 25/02 στις 19:30\nΚΥΡΙΑΚΗ 22/02 στις 17:30\nΤο τραγούδι του δάσους
  | Le chant des forets (Vincent Munier\, 95') One from the Heart\n\n\nΗ νέ
 α μαγική δημιουργία του Βενσάν Μινιέ που ξεπέρασε τους 1.000.000 θεατές στ
 η Γαλλία!\n\n\nΣΥΝΟΨΗ\nΒαθιά μέσα στα Βόσγια Όρη της Γαλλίας\, ο Μινιέ και
  ο γιος του\, συναντούν τον πατέρα του\, για να παρατηρήσουν τον λύγκα\, τ
 α ελάφια\, τις κουκουβάγιες και ίσως τον σπάνιο αγριόκουρκο σε ένα μοναδικ
 ό ταξίδι μύησης. Αποτυπώνοντας το θαύμα και τον μαγευτικό ρυθμό αυτού του 
 κρυφού περιβάλλοντος\, μαζί με τους ήχους και τις ιστορίες του που λέγοντα
 ι στο φως των κεριών\, ο Μινιέ παρουσιάζει μια λαμπρή\, ραψωδική υπενθύμισ
 η του εκπληκτικού κόσμου στον οποίο ζούμε και μαζί την συνάντηση τριών δια
 φορετικών γενεών που συνδέονται άρρηκτα από την αγάπη για την άγρια φύση κ
 αι το περιβάλλον.\n\nΛΙΓΑ ΛΟΓΙΑ ΓΙΑ ΤΗΝ ΤΑΙΝΙΑ\nΟ Μινιέ ενώνει σε ένα μυστ
 αγωγικό ταξίδι τρεις γενιές\, (πατέρας-γιος-εγγονός) για να μας ξεναγήσει 
 σε έναν αθέατο κόσμο\, αυτόν της άγριας ζωής και τον αέναο κύκλο της\, καλ
 ώντας μας να μοιραστούμε μαζί του τα δυνατά συναισθήματα\, που ένιωσε τόσα
  χρόνια στο δάσος και μαζί τις πιο όμορφες συναντήσεις του με τα «αόρατα» 
 πλάσματά του. Μια τελετή μύησης στα «αρχαία» δάση\, που αποκαλύπτει την πο
 ίηση αυτού του κόσμου\, αλλά και την κληρονομιά που πέρασε από τον πατέρα 
 του στον ίδιο όταν ήταν μικρός και που ίσως θα περάσει και στον εγγονό του
 .\nΓια τον Βενσάν Μινιέ\, «αυτή είναι μια ιστορία για την ζωή σε επιφυλακή
 \, για την ζωή στο καρτέρι. Όπως τα βράδια του παρελθόντος\, όταν\, γύρω α
 πό τη φωτιά\, με ορθάνοιχτα μάτια και ορθάνοιχτη φαντασία\, ακούγαμε περιπ
 ετειώδεις αφηγήσεις. Αυτή εδώ μας οδηγεί μακριά στα βάθη των δασών\, στα μ
 υστήρια της ύπαρξης μας\, ακολουθώντας έναν άνθρωπο που  έχει τη δύναμη να
  ξυπνήσει τη σπίθα του θαύματος που κοιμάται μέσα σε όλους μας».\n\nΕΓΡΑΨΑ
 Ν ΓΙΑ ΤΗΝ ΤΑΙΝΙΑ  \n«Μια στοχαστική ταινία συγκλονιστικής συναισθηματικής 
 δύναμης\, βασισμένη σε δύο διαλόγους. Του Μισέλ Μινιέ\, πατέρα του σκηνοθέ
 τη\, με τον Σιμόν\, εγγονό του\, τον οποίο θα μυήσει στο καρτέρι\, την παρ
 ατήρηση της ζωής στο δάσος. Και έπειτα\, αυτόν του Βενσάν Μινιέ με τον θεα
 τή\, στον οποίο δείχνει ό\,τι του διαφεύγει εδώ και πολύ καιρό\, που υπονο
 μεύεται από μια εποχή που δεν θέλει πια να βαρύνεται με αυτό: το άγριο–με 
 την έννοια του ζώου\, της βλάστησης\, αλλά και με μια έννοια πνευματική».L
 ibération\n«Τέσσερα χρόνια μετά τη Λεοπάρδαλη του Χιονιού\, ο φωτογράφος μ
 αγεύει με αυτή την ποιητική κατάδυση\, μια ωδή στη φύση και ένα εγκώμιο με
 τάδοσης στη νέα γενιά».Télérama\n«Ο φωτογράφος άγριας ζωής Βενσάν Μινιέ εξ
 ερευνά τα Βόσγια Όρη παρέα με τον πατέρα και τον γιο του. Αυτή η οικογενει
 ακή ιστορία\, πιο οικεία και μυστηριώδης από την προηγούμενη ταινία\, είνα
 ι ένα υπέροχο ποίημα προς τη φύση». L’Humanité\n«Ιδού ένα καθησυχαστικό ντ
 οκιμαντέρ που μας μαθαίνει\, όπως και στα παιδιά μας\, πώς να αφιερώνουμε 
 χρόνο\, να επανασυνδεθούμε με το οικοσύστημά μας και έναν ρυθμό ζωής από τ
 ον οποίο οι υπερσυνδεδεμένες υπάρξεις μας\, μας απομακρύνουν λίγο περισσότ
 ερο κάθε μέρα. L’Obs\n«Η ταινία δεν επιδιώκει να είναι διδακτική για όλα ό
 σα προβάλλονται. Οι υπέροχες εικόνες ομίχλης που ανοίγουν και κλείνουν την
  ιστορία μας οδηγούν περισσότερο προς την πλευρά της ποίησης. Πρόκειται γι
 α την αποτύπωση της ομορφιάς πραγμάτων που δεν έχουν να κάνουν τόσο με το 
 θεαματικό\, ακόμα κι αν η ταινία έχει το μερίδιο της από εκπληκτικές συναν
 τήσεις με ζώα\, όσο με την αέναη ανανέωση της ζωής».Le Monde\n«Εκτός από τ
 α υπέροχα πολυεπίπεδα ηχοτοπία του δάσους\, ο Μινιέ κάνει επίσης μια ιδιαί
 τερη επιλογή ανεβάζοντας πολύ τον ήχο σε συγκεκριμένες στιγμές. Με αυτόν τ
 ον τρόπο\, εφιστά την προσοχή μας στην ξεχωριστή δύναμη και τη ιδιαιτερότη
 τα της φωνής κάθε ζώου». Cineuropa\n«Μια απίστευτα καθηλωτική ταινία που α
 ποτυπώνει τη μαγική ομορφιά της φύσης\, ενώ παράλληλα προβάλλει την ευθραυ
 στότητά της. Μια ταινία για να πάρετε μια βαθιά ανάσα και να συλλογιστείτε
 ». Out Now\n«Ένα ποιητικό ντοκιμαντέρ μέσα στο δάσος\, ανάμεσα σε ζώα και 
 αρχέγονους ήχους που μετουσιώνειτις εικόνες της φύσης σε ένα διαλογισμό γι
 α το χρόνο\, τη μνήμη και τη ζωή». MyMovies.it\n«Όταν σκεφτόμαστε τις φωνέ
 ς που έχουν μεταφέρει τις φωνές της άγριας ζωής στον κόσμο\, μας έρχονται 
 στο νου η Τζέιν Γκούντολ και ο Ντέιβιντ Ατένμπορο. Μετά τον θάνατο της Τζέ
 ιν Γκούντολ πολλοί αναρωτιούνται ποιοι θα συνεχίσουν αυτόν τον αγώνα και ο
  Βενσάν Μινιέ είναι ένας από αυτούς. Ωστόσο\, δεν μιλάει με δυνατή φωνή\, 
 αντίθετα ακούει. Και μας μαθαίνει πώς να ακούσουμε κι εμείς. Ανακαλύψαμε τ
 ο έργο του είκοσι χρόνια πριν όταν κέρδισε τρεις συνεχείς χρονιές το Βραβε
 ίο BBC Wild Life Photographer of the Year (2000\, 2001\, 2002) και έκτοτε 
 αν η άγρια ζωή έγραφε ποίηση θα εκφραζόταν μέσα από τον φακό του». Scarlet
  Red Magazine\n \n\nΕΙΣΙΤΗΡΙΑ\n-Είσοδος για όλες τις αίθουσες: 7€\, 5€* (μ
 ειωμένο)\nΚάθε Δευτέρα ισχύει προσφορά εισόδου για 2 άτομα με ένα εισιτήρι
 ο στα 7€ από το ταμείο\n*Το μειωμένο εισιτήριο αφορά στις παρακάτω κατηγορ
 ίες:μαθητές\, φοιτητές\, άτομα άνω των 65 ετών\, άνεργοι\, άνθρωποι με ανα
 πηρία – ΑμεΑ (ισχύει και για έναν/μία συνοδό)\, δάσκαλοι-καθηγητές\, ατέλε
 ιες.\nΠρονόμια μελών σε ΜΜΕ\n-Αθηνόραμα Club (Αθηνόραμα): Από Δευτέρα έως 
 και Πέμπτη\, ειδική τιμή € 5\nΚλείστε ηλεκτρονικά τα εισιτήριά σας στο: ht
 tps://tickets.tainiothiki.gr/Σημειώνεται πως οι δικαιούχοι μειωμένου εισιτ
 ηρίου\, θα πρέπει να προμηθευτούν τα εισιτήριά τους από το ταμείο της Ταιν
 ιοθήκης. \n  http://www.tainiothiki.gr/el/aithouses/programma/event/2234-t
 o-tragoydi-tou-dasous-le-chant-des-forets
DTSTART:20260219T173000Z
DTEND:20260221T190500Z
LOCATION:Αίθουσα Β (ΙΕΡΑ ΟΔΟΣ 48\, 104 35\, ΚΕΡΑΜΕΙΚΟΣ\, ΑΘΗΝΑ)
SUMMARY:Το τραγούδι του δάσους| Le chant des forets 
URL:http://www.tainiothiki.gr/el/aithouses/programma/event/2234-to-tragoydi
 -tou-dasous-le-chant-des-forets
END:VEVENT
END:VCALENDAR
