BEGIN:VCALENDAR
VERSION:2.0
PRODID:-//http://www.tainiothiki.gr///NONSGML kigkonsult.se iCalcreator 2.10.15//
METHOD:PUBLISH
BEGIN:VEVENT
UID:20260420T183229EEST-0298KUBbWA@http://www.tainiothiki.gr/
DTSTAMP:20260420T153229Z
DESCRIPTION:ΑΙΘΟΥΣΑ Α\nΚΥΡΙΑΚΗ 22/02 \n17:00 Από τί είμαστε φτιαγμένοι (Σια
 μάκ Ετεμάντι\, 98') Tanweer\n\n\nΑπό την προσωπική αναζήτηση\, σε μια συλλ
 ογική συζήτηση για τη σεξουαλικότητα και την αναπηρία.\n\n\nΣΥΝΟΨΗ\nΟ Άρης
 \, ένας νέος τετραπληγικός φοιτητής ψυχολογίας\, ξεκινά την πτυχιακή του ε
 ργασία για τα στερεότυπα γύρω από τη σεξουαλικότητα των ατόμων με αναπηρία
  – μια έρευνα που εξελίσσεται σε πενταετές προσωπικό ταξίδι. Αναζητώντας α
 παντήσεις για την επιθυμία\, την οικειότητα (intimacy) και τη σεξουαλικότη
 τα\, ο Άρης γνωρίζει ανθρώπους που αλλάζουν την οπτική του: από την Κατερί
 να Βρανά μέχρι τον Δημήτρη Ζώρζο\, τον πρώτο επαγγελματία σεξουαλικό βοηθό
  στην Ελλάδα\, από νεαρά ζευγάρια στα πρώτα βήματα της σχέσης τους έως συν
 τρόφους ζωής που βίωσαν την απώλεια των αγαπημένων τους. Μεταβαίνοντας από
  την προσωπική αναζήτηση σε μια συλλογική εξερεύνηση της επιθυμίας και της
  σεξουαλικότητας\, η ταινία αμφισβητεί καθιερωμένες αντιλήψεις και διευρύν
 ει τα όρια του τι θεωρείται επιθυμητό και ποιος θεωρείται φορέας επιθυμίας
 .\n \n\nΕΙΣΙΤΗΡΙΑ\n-Είσοδος για όλες τις αίθουσες: 7€\, 5€* (μειωμένο)\nΚά
 θε Δευτέρα ισχύει προσφορά εισόδου για 2 άτομα με ένα εισιτήριο στα 7€ από
  το ταμείο\n*Το μειωμένο εισιτήριο αφορά στις παρακάτω κατηγορίες:μαθητές\
 , φοιτητές\, άτομα άνω των 65 ετών\, άνεργοι\, άνθρωποι με αναπηρία – ΑμεΑ
  (ισχύει και για έναν/μία συνοδό)\, δάσκαλοι-καθηγητές\, ατέλειες.\nΠρονόμ
 ια μελών σε ΜΜΕ\n-Αθηνόραμα Club (Αθηνόραμα): Από Δευτέρα έως και Πέμπτη\,
  ειδική τιμή € 5\nΚλείστε ηλεκτρονικά τα εισιτήριά σας στο: https://ticket
 s.tainiothiki.gr/Σημειώνεται πως οι δικαιούχοι μειωμένου εισιτηρίου\, θα π
 ρέπει να προμηθευτούν τα εισιτήριά τους από το ταμείο της Ταινιοθήκης. \n 
  http://www.tainiothiki.gr/el/aithouses/programma/event/2231-apo-ti-eimast
 e-ftiagmenoi
DTSTART:20260222T150000Z
DTEND:20260222T164000Z
LOCATION:Αίθουσα Α (ΙΕΡΑ ΟΔΟΣ 48\, 104 35\, ΚΕΡΑΜΕΙΚΟΣ\, ΑΘΗΝΑ)
SUMMARY:Από τί είμαστε φτιαγμένοι 
URL:http://www.tainiothiki.gr/el/aithouses/programma/event/2231-apo-ti-eima
 ste-ftiagmenoi
END:VEVENT
END:VCALENDAR
