BEGIN:VCALENDAR
VERSION:2.0
PRODID:-//http://www.tainiothiki.gr///NONSGML kigkonsult.se iCalcreator 2.10.15//
METHOD:PUBLISH
BEGIN:VEVENT
UID:20260420T223015EEST-0776LtcFrt@http://www.tainiothiki.gr/
DTSTAMP:20260420T193015Z
DESCRIPTION:ΑΙΘΟΥΣΑ Β\nΣΑΒΒΑΤΟ 14/02 στις 17:00\nΑκολουθεί συζήτηση με τον 
 σκηνοθέτη\nΚΥΡΙΑΚΗ 15/02 στις 19:00Ακολουθεί συζήτηση με τον σκηνοθέτη και
  την πρωταγωνίστρια\, Μαργαρίτα Αλεξιάδη\nΚραυγές (Πέτρος Σεβαστίκογλου\, 
 87') \n\n\nΈνα τολμηρό πείραμα που υποστηρίζεται από στιβαρές ερμηνείες (Α
 λεξάνδρα Καζάζου\, Χάρη Φραγκούλη\, Αγλαΐα Παππά\, Μαργαρίτα Αλεξιάδη και 
 Μαρία Αρζόγλου)\, εξαιρετική φωτογραφία και δημιουργικές μουσικές συνθέσει
 ς!\n\nΣΥΝΟΨΗ\nΤρεις γυναίκες διαφορετικών ηλικιών ζουν εγκλωβισμένες σε μι
 α καθημερινότητα που τις καταπιέζει. Ανάμεσα στη ρουτίνα\, τις κοινωνικές 
 προσδοκίες και τους προσωπικούς τους φόβους\, αισθάνονται ότι έχουν χάσει 
 τη σύνδεση με τον εαυτό και τις επιθυμίες τους.\nΗ απόδρασή τους στην άγρι
 α φύση γίνεται μια απρόσμενη διαδρομή ελευθερίας και αφύπνισης. Εκεί\, μακ
 ριά από κανόνες και ρόλους\, ανακαλύπτουν μια άλλη εκδοχή του εαυτού τους.
 \nΌταν ένας επικείμενος γάμος τις φέρνει αντιμέτωπες με όσα θεωρούνται «φυ
 σιολογικά» και «αποδεκτά»\, οι τρεις γυναίκες αμφισβητούν τα όρια της αγάπ
 ης και της σχέσης\, όπως τα θέτει η κοινωνία\, και αναζητούν έναν νέο τρόπ
 ο ύπαρξης - με τίμημα τη σύγκρουση με τον κόσμο γύρω τους και με τον ίδιο 
 τους τον εαυτό.\n\nΛΙΓΑ ΛΟΓΙΑ ΓΙΑ ΤΗΝ ΤΑΙΝΙΑ\nΗ έκτη ταινία του Πέτρου Σεβ
 αστίκογλου\, αποτελεί μια ποιητική εξερεύνηση της αγάπης\, της ελευθερίας 
 και της γυναικείας φύσης\, συνδυάζοντας πειραματική οπτική γλώσσα με έντον
 η συναισθηματική δύναμη. Με σαφή επιρροή από τον λυρικό\, σωματικό κινηματ
 ογράφο και με ιδιαίτερη χρήση της Φύσης ως ψυχικού τοπίου\, οι «Κραυγές» σ
 υνθέτουν μια άγρια και ταυτόχρονα ρομαντική ωδή στον έρωτα μέσα από τον δα
 ιδαλώδη και ατίθασο ψυχισμό της γυναίκας.  \nΟ σκηνοθέτης ακολουθεί και πά
 λι τον πρωτοποριακό κινηματογραφικό δρόμο που χάραξε στις προηγούμενες ται
 νίες του\, δίνει πρωταγωνιστικό ρόλο στους ήχους και τη μουσική\, και αφήν
 ει το συναίσθημα να κατακλύσει την ιστορία που ξεχύνεται μέσα από βαθιά γο
 ητευτικές εικόνες. Ο ίδιος άλλωστε έχει αναλάβει και τη φωτογραφία και μέρ
 ος της κάμερας\, όπως και στις προηγούμενες δημιουργίες του. \n\nΣΗΜΕΙΩΜΑ 
 ΤΟΥ ΣΚΗΝΟΘΕΤΗ\nΔεν αντέχουμε πια να καούμε από πάθος\, λέξεις\, ιδέες και 
 ειλικρινή πόθο για ό\,τι πραγματικά μας συγκλονίζει. Ζώντας σε έναν κόσμο 
 που διαρκώς φοβόμαστε μήπως κάτι «χάσουμε»\, υψώνουμε προστατευτικούς τοίχ
 ους για να μην διαλυθούμε μέσα σε μια άλλη ανθρώπινη ψυχή. Λες κι ένα δεύτ
 ερο δέρμα βάζει το δράμα που διαδραματίζεται μπροστά στα μάτια μας σε απόσ
 ταση\, για να το επαναφέρει σε αποδεκτές αναλογίες\, δηλαδή αναλογίες που 
 δεν κλονίζουν τις συνήθειές μας ούτε τις πεποιθήσεις μας. Έχουμε χάσει την
  αίσθηση της τραγωδίας. Ξεχνώντας τον σκοπό της ζωής\, μένουμε λογικοί\, ε
 νώ μέσα μας φλεγόμαστε. Η νοσταλγία για την άγρια\, αδάμαστη φύση μας\, όμ
 ως\, μας ακολουθεί και το σώμα κατανοεί μέσω των αισθήσεων τι είναι τι. Κι
 νείται σε επίπεδα που η λογική δεν θα μπορούσε ποτέ να συλλάβει.  \nΜία ισ
 τορία που υιοθετεί μια λυρική και όχι ορθολογική σύνθεση\, καθοδηγούμενη α
 πό τα συναισθήματα. \n  \n\nΕΙΣΙΤΗΡΙΑ\n-Είσοδος για όλες τις αίθουσες: 7€\
 , 5€* (μειωμένο)\nΚάθε Δευτέρα ισχύει προσφορά εισόδου για 2 άτομα με ένα 
 εισιτήριο στα 7€ από το ταμείο\n*Το μειωμένο εισιτήριο αφορά στις παρακάτω
  κατηγορίες:μαθητές\, φοιτητές\, άτομα άνω των 65 ετών\, άνεργοι\, άνθρωπο
 ι με αναπηρία – ΑμεΑ (ισχύει και για έναν/μία συνοδό)\, δάσκαλοι-καθηγητές
 \, ατέλειες.\nΠρονόμια μελών σε ΜΜΕ\n-Αθηνόραμα Club (Αθηνόραμα): Από Δευτ
 έρα έως και Πέμπτη\, ειδική τιμή € 5\nΚλείστε ηλεκτρονικά τα εισιτήριά σας
  στο: https://tickets.tainiothiki.gr/Σημειώνεται πως οι δικαιούχοι μειωμέν
 ου εισιτηρίου\, θα πρέπει να προμηθευτούν τα εισιτήριά τους από το ταμείο 
 της Ταινιοθήκης. \n  http://www.tainiothiki.gr/el/aithouses/programma/even
 t/2227-kravges
DTSTART:20260214T150000Z
DTEND:20260214T163000Z
LOCATION:Αίθουσα Β (ΙΕΡΑ ΟΔΟΣ 48\, 104 35\, ΚΕΡΑΜΕΙΚΟΣ\, ΑΘΗΝΑ)
SUMMARY:Κραυγές
URL:http://www.tainiothiki.gr/el/aithouses/programma/event/2227-kravges
END:VEVENT
END:VCALENDAR
