BEGIN:VCALENDAR
VERSION:2.0
PRODID:-//http://www.tainiothiki.gr///NONSGML kigkonsult.se iCalcreator 2.10.15//
METHOD:PUBLISH
BEGIN:VEVENT
UID:20260420T183624EEST-0364TMrHvP@http://www.tainiothiki.gr/
DTSTAMP:20260420T153624Z
DESCRIPTION:ΑΙΘΟΥΣΑ Β\nΠΕΜΠΤΗ 12/02 - ΣΑΒΒΑΤΟ 14/02 &amp\; ΔΕΥΤΕΡΑ 16/02 - 
 ΤΕΤΑΡΤΗ 18/02 \n19:00 Δύο εποχές\, δύο ξένοι | Two seasons\, two strangers
  (Shô Miyake\, 89') Weirdwave\n\n\nΜία βαθιά ανθρώπινη ιστορία για τη μονα
 ξιά και την ανάγκη των ανθρώπων να κατανοήσουν ο ένας τον άλλον\, με την υ
 πογραφή ενός από τους σημαντικότερους σκηνοθέτες του σύγχρονου ιαπωνικού σ
 ινεμά!\n\n\nΣΥΝΟΨΗ\nΗ Λι\, μια Κορεάτισσα σεναριογράφος σε δημιουργικό αδι
 έξοδο ζει και εργάζεται στην Ιαπωνία. Σε μια κρίση έμπνευσης παλεύει να γρ
 άψει μια ιστορία έρωτα ανάμεσα σε δύο θλιμμένους νέους που συναντώνται σε 
 μια παραλία και βρίσκει καταφύγιο στο ορεινό πανδοχείο ενός φαινομενικά αγ
 ροίκου μεσήλικου\, ο οποίος κατατρύχεται από τα δικά του λάθη και ενοχές.
 \n\nΛΙΓΑ ΛΟΓΙΑ ΓΙΑ ΤΗΝ ΤΑΙΝΙΑ   \nΟ Σο Μιγιάκε\, ένας από τους σημαντικότε
 ρους σκηνοθέτες του σύγχρονου ιαπωνικού σινεμά\, διασκευάζει δύο διαφορετι
 κά μάνγκα του εμβληματικού Γιοσιχάρου Τσούγκε («Ο κύριος Μπεν και το ιγκλο
 ύ του» και «Μια θέα στη θάλασσα»\, της δεκαετίας του ‘60) και τα παντρεύει
  ευρηματικά παραδίδοντάς μας μια ταινία που ξεκινά σαν ένα “σιωπηλά εκλεπτ
 υσμένο” στοχαστικό ταξίδι ανάμεσα στη σκέψη και τον λόγο και εξελίσσεται σ
 ταδιακά σε μια ζεστή\, βαθιά ανθρώπινη ιστορία για τη μοναξιά και την ανάγ
 κη των ανθρώπων να κατανοήσουν ο ένας τον άλλον.\nΟ κόσμος του Τσούγκε μετ
 αφέρεται στη μεγάλη οθόνη\, με μια λεπτή ισορροπία ανάμεσα στη μυθοπλαστικ
 ή αφήγηση και τη σύγχρονη ευαισθησία. Μέσα από εντυπωσιακά τοπία\, φευγαλέ
 ες συναντήσεις\, ανεξήγητες στιγμές και ένα σύνολο αξιαγάπητων χαρακτήρων\
 , η ταινία αποτυπώνει με χιούμορ τις πρωταρχικές χαρές του ταξιδιού και τη
  σιωπηλή παραδοξότητα της ανθρώπινης ύπαρξης.\nΣυνηθισμένες συναντήσεις με
 τατρέπονται σε λέξεις\, συναισθήματα σε κείμενο και εμπειρίες σε εικόνες\,
  αν και πάντα “χρωματισμένες” με την απώλεια. Η ταινία εξερευνά τα όρια τη
 ς γλώσσας και της μετάφρασης και τα υπερβαίνει–σε αυτήν\, η σιωπή και το τ
 οπίο έχουν πρωταγωνιστικό ρόλο.  \nΤο Δύο εποχές\, δύο ξένοι εστιάζει στις
  ανθρώπινες εμπειρίες που η συμβατική αφήγηση δεν θα θεωρούσε αξιες δραματ
 οποίησης. Κι όμως\, μέσα από την ιδιαίτερη οπτική του Μιγιάκε\, αποκαλύπτε
 ται πως οι εμπειρίες αυτές θα μπορούσαν όχι μόνο να αλλάξουν αλλά ακόμα κα
 ι να σώσουν τη ζωή των ηρώων.\n\nΣΚΗΝΟΘΕΤΙΚΟ ΣΗΜΕΙΩΜΑ\n«Ταξιδεύουμε και κά
 νουμε ταινίες για να βγούμε έξω από τη ρουτίνα και τις γνώριμες λέξεις\, γ
 ια να δούμε τον κόσμο σαν ξένοι. Οι λέξεις μας καθοδηγούν\, αλλά συχνά αμβ
 λύνουν τις αισθήσεις μας. Μέσα από την εικόνα και την κίνηση γνωρίζουμε το
 υς άλλους -και τον ίδιο μας τον εαυτό- πιο ανοιχτά. Και ξυπνάμε σε έναν κό
 σμο χωρίς όνομα\, που εξακολουθεί να είναι σιωπηλά γεμάτος δέος.»\n \n\nΕΙ
 ΣΙΤΗΡΙΑ\n-Είσοδος για όλες τις αίθουσες: 7€\, 5€* (μειωμένο)\nΚάθε Δευτέρα
  ισχύει προσφορά εισόδου για 2 άτομα με ένα εισιτήριο στα 7€ από το ταμείο
 \n*Το μειωμένο εισιτήριο αφορά στις παρακάτω κατηγορίες:μαθητές\, φοιτητές
 \, άτομα άνω των 65 ετών\, άνεργοι\, άνθρωποι με αναπηρία – ΑμεΑ (ισχύει κ
 αι για έναν/μία συνοδό)\, δάσκαλοι-καθηγητές\, ατέλειες.\nΠρονόμια μελών σ
 ε ΜΜΕ\n-Αθηνόραμα Club (Αθηνόραμα): Από Δευτέρα έως και Πέμπτη\, ειδική τι
 μή € 5\nΚλείστε ηλεκτρονικά τα εισιτήριά σας στο: https://tickets.tainioth
 iki.gr/Σημειώνεται πως οι δικαιούχοι μειωμένου εισιτηρίου\, θα πρέπει να π
 ρομηθευτούν τα εισιτήριά τους από το ταμείο της Ταινιοθήκης. \n  http://ww
 w.tainiothiki.gr/el/aithouses/programma/event/2225-dyo-epoxes-dyo-ksenoi-t
 wo-seasons-two-strangers
DTSTART:20260212T170000Z
DTEND:20260214T183000Z
LOCATION:Αίθουσα Β (ΙΕΡΑ ΟΔΟΣ 48\, 104 35\, ΚΕΡΑΜΕΙΚΟΣ\, ΑΘΗΝΑ)
SUMMARY:Δύο εποχές\, δύο ξένοι | Two seasons\, two strangers 
URL:http://www.tainiothiki.gr/el/aithouses/programma/event/2225-dyo-epoxes-
 dyo-ksenoi-two-seasons-two-strangers
END:VEVENT
END:VCALENDAR
