BEGIN:VCALENDAR
VERSION:2.0
PRODID:-//http://www.tainiothiki.gr///NONSGML kigkonsult.se iCalcreator 2.10.15//
METHOD:PUBLISH
BEGIN:VEVENT
UID:20260420T201152EEST-50425EsRIs@http://www.tainiothiki.gr/
DTSTAMP:20260420T171152Z
DESCRIPTION:ΑΙΘΟΥΣΑ Β\nΠΕΜΠΤΗ 12/02 - ΣΑΒΒΑΤΟ 14/02 &amp\; ΔΕΥΤΕΡΑ 16/02 - 
 ΤΕΤΑΡΤΗ 18/02 στις 20:45\nΚΥΡΙΑΚΗ 15/02 στις 21:00\nΟ ήχος της πτώσης | So
 und of falling (Mascha Schilinski\, 155') Cinobo\n\n\n\nΈνα αλησμόνητο σκη
 νοθετικό έργο που\, με ποιητική ατμόσφαιρα και εικόνες μοναδικής ομορφιάς\
 , εξερευνά τη διαγενεακή κληρονομιά του πόνου και της μνήμης...\n\nΣΥΝΟΨΗ
 \nΤέσσερα νεαρά κορίτσια μεγαλώνουν σε μια απομονωμένη αγροικία στη βόρεια
  Γερμανία\, σε τέσσερις διαφορετικές δεκαετίες (1910\, 1940\, 1980\, 2020)
 . Καθώς οι ιστορίες τους ξεδιπλώνονται\, αναδύονται όλα όσα τις ενώνουν δι
 αχρονικά\, σαν επαναλαμβανόμενα μοτίβα\, θολώνοντας τα όρια ανάμεσα σε παρ
 ελθόν και παρόν.\n   \n\nΕΙΣΙΤΗΡΙΑ\n-Είσοδος για όλες τις αίθουσες: 7€\, 5
 €* (μειωμένο)\nΚάθε Δευτέρα ισχύει προσφορά εισόδου για 2 άτομα με ένα εισ
 ιτήριο στα 7€ από το ταμείο\n*Το μειωμένο εισιτήριο αφορά στις παρακάτω κα
 τηγορίες:μαθητές\, φοιτητές\, άτομα άνω των 65 ετών\, άνεργοι\, άνθρωποι μ
 ε αναπηρία – ΑμεΑ (ισχύει και για έναν/μία συνοδό)\, δάσκαλοι-καθηγητές\, 
 ατέλειες.\nΠρονόμια μελών σε ΜΜΕ\n-Αθηνόραμα Club (Αθηνόραμα): Από Δευτέρα
  έως και Πέμπτη\, ειδική τιμή € 5\nΚλείστε ηλεκτρονικά τα εισιτήριά σας στ
 ο: https://tickets.tainiothiki.gr/Σημειώνεται πως οι δικαιούχοι μειωμένου 
 εισιτηρίου\, θα πρέπει να προμηθευτούν τα εισιτήριά τους από το ταμείο της
  Ταινιοθήκης. \n  http://www.tainiothiki.gr/el/aithouses/programma/event/2
 222-o-ixos-tis-ptosis-sound-of-falling
DTSTART:20260212T184500Z
DTEND:20260214T212000Z
LOCATION:Αίθουσα Β (ΙΕΡΑ ΟΔΟΣ 48\, 104 35\, ΚΕΡΑΜΕΙΚΟΣ\, ΑΘΗΝΑ)
SUMMARY:Ο ήχος της πτώσης | Sound of falling 
URL:http://www.tainiothiki.gr/el/aithouses/programma/event/2222-o-ixos-tis-
 ptosis-sound-of-falling
END:VEVENT
END:VCALENDAR
