BEGIN:VCALENDAR
VERSION:2.0
PRODID:-//http://www.tainiothiki.gr///NONSGML kigkonsult.se iCalcreator 2.10.15//
METHOD:PUBLISH
BEGIN:VEVENT
UID:20260420T183908EEST-8987gvGFSJ@http://www.tainiothiki.gr/
DTSTAMP:20260420T153908Z
DESCRIPTION:ΑΙΘΟΥΣΑ Α\nΣΑΒΒΑΤΟ 14/02 &amp\; ΚΥΡΙΑΚΗ 15/02\n17:00 Το τραγούδ
 ι του δάσους | Le chant des forets (Vincent Munier\, 95') One from the Hea
 rt\n\n\nΗ νέα μαγική δημιουργία του Βενσάν Μινιέ που ξεπέρασε τους 1.000.0
 00 θεατές στη Γαλλία!\n\n\nΣΥΝΟΨΗ\nΒαθιά μέσα στα Βόσγια Όρη της Γαλλίας\,
  ο Μινιέ και ο γιος του\, συναντούν τον πατέρα του\, για να παρατηρήσουν τ
 ον λύγκα\, τα ελάφια\, τις κουκουβάγιες και ίσως τον σπάνιο αγριόκουρκο σε
  ένα μοναδικό ταξίδι μύησης. Αποτυπώνοντας το θαύμα και τον μαγευτικό ρυθμ
 ό αυτού του κρυφού περιβάλλοντος\, μαζί με τους ήχους και τις ιστορίες του
  που λέγονται στο φως των κεριών\, ο Μινιέ παρουσιάζει μια λαμπρή\, ραψωδι
 κή υπενθύμιση του εκπληκτικού κόσμου στον οποίο ζούμε και μαζί την συνάντη
 ση τριών διαφορετικών γενεών που συνδέονται άρρηκτα από την αγάπη για την 
 άγρια φύση και το περιβάλλον.\n\nΛΙΓΑ ΛΟΓΙΑ ΓΙΑ ΤΗΝ ΤΑΙΝΙΑ\nΟ Μινιέ ενώνει
  σε ένα μυσταγωγικό ταξίδι τρεις γενιές\, (πατέρας-γιος-εγγονός) για να μα
 ς ξεναγήσει σε έναν αθέατο κόσμο\, αυτόν της άγριας ζωής και τον αέναο κύκ
 λο της\, καλώντας μας να μοιραστούμε μαζί του τα δυνατά συναισθήματα\, που
  ένιωσε τόσα χρόνια στο δάσος και μαζί τις πιο όμορφες συναντήσεις του με 
 τα «αόρατα» πλάσματά του. Μια τελετή μύησης στα «αρχαία» δάση\, που αποκαλ
 ύπτει την ποίηση αυτού του κόσμου\, αλλά και την κληρονομιά που πέρασε από
  τον πατέρα του στον ίδιο όταν ήταν μικρός και που ίσως θα περάσει και στο
 ν εγγονό του.\nΓια τον Βενσάν Μινιέ\, «αυτή είναι μια ιστορία για την ζωή 
 σε επιφυλακή\, για την ζωή στο καρτέρι. Όπως τα βράδια του παρελθόντος\, ό
 ταν\, γύρω από τη φωτιά\, με ορθάνοιχτα μάτια και ορθάνοιχτη φαντασία\, ακ
 ούγαμε περιπετειώδεις αφηγήσεις. Αυτή εδώ μας οδηγεί μακριά στα βάθη των δ
 ασών\, στα μυστήρια της ύπαρξης μας\, ακολουθώντας έναν άνθρωπο που  έχει 
 τη δύναμη να ξυπνήσει τη σπίθα του θαύματος που κοιμάται μέσα σε όλους μας
 ».\n\nΕΓΡΑΨΑΝ ΓΙΑ ΤΗΝ ΤΑΙΝΙΑ  \n«Μια στοχαστική ταινία συγκλονιστικής συνα
 ισθηματικής δύναμης\, βασισμένη σε δύο διαλόγους. Του Μισέλ Μινιέ\, πατέρα
  του σκηνοθέτη\, με τον Σιμόν\, εγγονό του\, τον οποίο θα μυήσει στο καρτέ
 ρι\, την παρατήρηση της ζωής στο δάσος. Και έπειτα\, αυτόν του Βενσάν Μινι
 έ με τον θεατή\, στον οποίο δείχνει ό\,τι του διαφεύγει εδώ και πολύ καιρό
 \, που υπονομεύεται από μια εποχή που δεν θέλει πια να βαρύνεται με αυτό: 
 το άγριο–με την έννοια του ζώου\, της βλάστησης\, αλλά και με μια έννοια π
 νευματική».Libération\n«Τέσσερα χρόνια μετά τη Λεοπάρδαλη του Χιονιού\, ο 
 φωτογράφος μαγεύει με αυτή την ποιητική κατάδυση\, μια ωδή στη φύση και έν
 α εγκώμιο μετάδοσης στη νέα γενιά».Télérama\n«Ο φωτογράφος άγριας ζωής Βεν
 σάν Μινιέ εξερευνά τα Βόσγια Όρη παρέα με τον πατέρα και τον γιο του. Αυτή
  η οικογενειακή ιστορία\, πιο οικεία και μυστηριώδης από την προηγούμενη τ
 αινία\, είναι ένα υπέροχο ποίημα προς τη φύση». L’Humanité\n«Ιδού ένα καθη
 συχαστικό ντοκιμαντέρ που μας μαθαίνει\, όπως και στα παιδιά μας\, πώς να 
 αφιερώνουμε χρόνο\, να επανασυνδεθούμε με το οικοσύστημά μας και έναν ρυθμ
 ό ζωής από τον οποίο οι υπερσυνδεδεμένες υπάρξεις μας\, μας απομακρύνουν λ
 ίγο περισσότερο κάθε μέρα. L’Obs\n«Η ταινία δεν επιδιώκει να είναι διδακτι
 κή για όλα όσα προβάλλονται. Οι υπέροχες εικόνες ομίχλης που ανοίγουν και 
 κλείνουν την ιστορία μας οδηγούν περισσότερο προς την πλευρά της ποίησης. 
 Πρόκειται για την αποτύπωση της ομορφιάς πραγμάτων που δεν έχουν να κάνουν
  τόσο με το θεαματικό\, ακόμα κι αν η ταινία έχει το μερίδιο της από εκπλη
 κτικές συναντήσεις με ζώα\, όσο με την αέναη ανανέωση της ζωής».Le Monde\n
 «Εκτός από τα υπέροχα πολυεπίπεδα ηχοτοπία του δάσους\, ο Μινιέ κάνει επίσ
 ης μια ιδιαίτερη επιλογή ανεβάζοντας πολύ τον ήχο σε συγκεκριμένες στιγμές
 . Με αυτόν τον τρόπο\, εφιστά την προσοχή μας στην ξεχωριστή δύναμη και τη
  ιδιαιτερότητα της φωνής κάθε ζώου». Cineuropa\n«Μια απίστευτα καθηλωτική 
 ταινία που αποτυπώνει τη μαγική ομορφιά της φύσης\, ενώ παράλληλα προβάλλε
 ι την ευθραυστότητά της. Μια ταινία για να πάρετε μια βαθιά ανάσα και να σ
 υλλογιστείτε». Out Now\n«Ένα ποιητικό ντοκιμαντέρ μέσα στο δάσος\, ανάμεσα
  σε ζώα και αρχέγονους ήχους που μετουσιώνειτις εικόνες της φύσης σε ένα δ
 ιαλογισμό για το χρόνο\, τη μνήμη και τη ζωή». MyMovies.it\n«Όταν σκεφτόμα
 στε τις φωνές που έχουν μεταφέρει τις φωνές της άγριας ζωής στον κόσμο\, μ
 ας έρχονται στο νου η Τζέιν Γκούντολ και ο Ντέιβιντ Ατένμπορο. Μετά τον θά
 νατο της Τζέιν Γκούντολ πολλοί αναρωτιούνται ποιοι θα συνεχίσουν αυτόν τον
  αγώνα και ο Βενσάν Μινιέ είναι ένας από αυτούς. Ωστόσο\, δεν μιλάει με δυ
 νατή φωνή\, αντίθετα ακούει. Και μας μαθαίνει πώς να ακούσουμε κι εμείς. Α
 νακαλύψαμε το έργο του είκοσι χρόνια πριν όταν κέρδισε τρεις συνεχείς χρον
 ιές το Βραβείο BBC Wild Life Photographer of the Year (2000\, 2001\, 2002)
  και έκτοτε αν η άγρια ζωή έγραφε ποίηση θα εκφραζόταν μέσα από τον φακό τ
 ου». Scarlet Red Magazine\n \n\nΕΙΣΙΤΗΡΙΑ\n-Είσοδος για όλες τις αίθουσες:
  7€\, 5€* (μειωμένο)\nΚάθε Δευτέρα ισχύει προσφορά εισόδου για 2 άτομα με 
 ένα εισιτήριο στα 7€ από το ταμείο\n*Το μειωμένο εισιτήριο αφορά στις παρα
 κάτω κατηγορίες:μαθητές\, φοιτητές\, άτομα άνω των 65 ετών\, άνεργοι\, άνθ
 ρωποι με αναπηρία – ΑμεΑ (ισχύει και για έναν/μία συνοδό)\, δάσκαλοι-καθηγ
 ητές\, ατέλειες.\nΠρονόμια μελών σε ΜΜΕ\n-Αθηνόραμα Club (Αθηνόραμα): Από 
 Δευτέρα έως και Πέμπτη\, ειδική τιμή € 5\nΚλείστε ηλεκτρονικά τα εισιτήριά
  σας στο: https://tickets.tainiothiki.gr/Σημειώνεται πως οι δικαιούχοι μει
 ωμένου εισιτηρίου\, θα πρέπει να προμηθευτούν τα εισιτήριά τους από το ταμ
 είο της Ταινιοθήκης. \n  http://www.tainiothiki.gr/el/aithouses/programma/
 event/2220-to-tragoydi-tou-dasous-le-chant-des-forets
DTSTART:20260214T150000Z
DTEND:20260214T163500Z
LOCATION:Αίθουσα Α (ΙΕΡΑ ΟΔΟΣ 48\, 104 35\, ΚΕΡΑΜΕΙΚΟΣ\, ΑΘΗΝΑ)
SUMMARY:Το τραγούδι του δάσους| Le chant des forets 
URL:http://www.tainiothiki.gr/el/aithouses/programma/event/2220-to-tragoydi
 -tou-dasous-le-chant-des-forets
END:VEVENT
END:VCALENDAR
