BEGIN:VCALENDAR
VERSION:2.0
PRODID:-//http://www.tainiothiki.gr///NONSGML kigkonsult.se iCalcreator 2.10.15//
METHOD:PUBLISH
BEGIN:VEVENT
UID:20260420T183654EEST-6262VgaifE@http://www.tainiothiki.gr/
DTSTAMP:20260420T153654Z
DESCRIPTION:ΑΙΘΟΥΣΑ Α\nΠΕΜΠΤΗ 12/02 - ΤΕΤΑΡΤΗ 18/02\n21:00 Ο μυστικός πράκτ
 ορας | The secret agent (Kleber Mendonça Filho\, 160') Spentzos Films\n\n
 \nΈνα πολιτικό θρίλερ που διαδραματίζεται στη Βραζιλία της δεκαετίας του 1
 970\, το οποίο απέσπασε διπλή διάκριση για τη σκηνοθεσία και την ανδρική ε
 ρμηνεία!\n\n\nΣΥΝΟΨΗ\nΤο 1977\, κατά τη διάρκεια της στρατιωτικής δικτατορ
 ίας της Βραζιλίας\, ο Μαρσέλο\, ένας δάσκαλος\, δραπετεύει από ταραχώδες π
 αρελθόν του\, και εγκαθίσταται ως φυγάς στην πόλη Ρεσίφε\, όπου ελπίζει να
  χτίσει μια νέα ζωή και να επανενωθεί με τον γιο του.\nΣύντομα συνειδητοπο
 ιεί ότι η πόλη απέχει πολύ από το να γίνει το καταφύγιο που αναζητά\, καθώ
 ς οι κυβερνητικές δυνάμεις τον κυνηγούν και η ζωή του απειλείται όλο και π
 ερισσότερο.\n\nΕΓΡΑΨΑΝ ΓΙΑ ΤΗΝ ΤΑΙΝΙΑ\n– «Ένα εξαιρετικό δράμα για έναν ακ
 αδημαϊκό που βρίσκεται σε φυγή στη δολοφονική δεκαετία του 1970.» – The Gu
 ardian\n– «Μια γεμάτη ένταση ταινία που συνδυάζει την πολιτική με την προσ
 ωπική αφήγηση\, προσφέροντας μια καθηλωτική εμπειρία.» – Screen Daily\n  
 \n\nΕΙΣΙΤΗΡΙΑ\n-Είσοδος για όλες τις αίθουσες: 7€\, 5€* (μειωμένο)\nΚάθε Δ
 ευτέρα ισχύει προσφορά εισόδου για 2 άτομα με ένα εισιτήριο στα 7€ από το 
 ταμείο\n*Το μειωμένο εισιτήριο αφορά στις παρακάτω κατηγορίες:μαθητές\, φο
 ιτητές\, άτομα άνω των 65 ετών\, άνεργοι\, άνθρωποι με αναπηρία – ΑμεΑ (ισ
 χύει και για έναν/μία συνοδό)\, δάσκαλοι-καθηγητές\, ατέλειες.\nΠρονόμια μ
 ελών σε ΜΜΕ\n-Αθηνόραμα Club (Αθηνόραμα): Από Δευτέρα έως και Πέμπτη\, ειδ
 ική τιμή € 5\nΚλείστε ηλεκτρονικά τα εισιτήριά σας στο: https://tickets.ta
 iniothiki.gr/Σημειώνεται πως οι δικαιούχοι μειωμένου εισιτηρίου\, θα πρέπε
 ι να προμηθευτούν τα εισιτήριά τους από το ταμείο της Ταινιοθήκης. \n  htt
 p://www.tainiothiki.gr/el/aithouses/programma/event/2219-o-mystikos-prakto
 ras-the-secret-agent
DTSTART:20260212T190000Z
DTEND:20260218T214000Z
LOCATION:Αίθουσα Α (ΙΕΡΑ ΟΔΟΣ 48\, 104 35\, ΚΕΡΑΜΕΙΚΟΣ\, ΑΘΗΝΑ)
SUMMARY:Ο μυστικός πράκτορας | The secret agent 
URL:http://www.tainiothiki.gr/el/aithouses/programma/event/2219-o-mystikos-
 praktoras-the-secret-agent
END:VEVENT
END:VCALENDAR
