BEGIN:VCALENDAR
VERSION:2.0
PRODID:-//http://www.tainiothiki.gr///NONSGML kigkonsult.se iCalcreator 2.10.15//
METHOD:PUBLISH
BEGIN:VEVENT
UID:20260420T170026EEST-3377Pvgl9r@http://www.tainiothiki.gr/
DTSTAMP:20260420T140026Z
DESCRIPTION:ΑΙΘΟΥΣΑ Α\nΠΕΜΠΤΗ 29/01 - ΤΕΤΑΡΤΗ 04/02\n19:15 Sirat (Oliver La
 xe\, 115') Feelgood\n\n\n\nΈνα καθηλωτικό υπαρξιακό road movie!\n\nΣΥΝΟΨΗ
 \nΣτην καρδιά των άγριων και απόκοσμων ορεινών τοπίων του νότιου Μαρόκου\,
  ένας πατέρας και ο γιος του ξεκινούν μια απεγνωσμένη αναζήτηση. Πηγαίνουν
  σε ένα ρέιβ πάρτι\, για να βρουν την κόρη και αδελφή αντίστοιχα\, η οποία
  έχει χαθεί μυστηριωδώς πριν από μήνες\, σε ένα παρόμοιο πάρτι. Ωθούμενοι 
 από τη μοίρα\, αποφασίζουν να ακολουθήσουν μια ομάδα ρέιβερς στην αναζήτησ
 η ενός τελευταίου πάρτι που θα γίνει στην έρημο\, με την ελπίδα να είναι ε
 κεί.​\n\nΛΙΓΑ ΛΟΓΙΑ ΓΙΑ ΤΗΝ ΤΑΙΝΙΑ\nΜια ταινία φτιαγμένη για την αίθουσα\,
  το αγωνιώδες αυτό οδοιπορικό μέσα στην έρημο που οδηγεί προς μια εσωτερικ
 ή υπέρβαση\, πρόκειται οπωσδήποτε για την καλύτερη στιγμή του Oliver Laxe 
 και για μία από τις εντυπωσιακότερες ταινίες της χρονιάς. ​\n  \n\nΕΙΣΙΤΗΡ
 ΙΑ\n-Είσοδος για όλες τις αίθουσες: 7€\, 5€* (μειωμένο)\nΚάθε Δευτέρα ισχύ
 ει προσφορά εισόδου για 2 άτομα με ένα εισιτήριο στα 7€ από το ταμείο\n*Το
  μειωμένο εισιτήριο αφορά στις παρακάτω κατηγορίες:μαθητές\, φοιτητές\, άτ
 ομα άνω των 65 ετών\, άνεργοι\, άνθρωποι με αναπηρία – ΑμεΑ (ισχύει και γι
 α έναν/μία συνοδό)\, δάσκαλοι-καθηγητές\, ατέλειες.\nΠρονόμια μελών σε ΜΜΕ
 \n-Αθηνόραμα Club (Αθηνόραμα): Από Δευτέρα έως και Πέμπτη\, ειδική τιμή € 
 5\nΚλείστε ηλεκτρονικά τα εισιτήριά σας στο: https://tickets.tainiothiki.g
 r/Σημειώνεται πως οι δικαιούχοι μειωμένου εισιτηρίου\, θα πρέπει να προμηθ
 ευτούν τα εισιτήριά τους από το ταμείο της Ταινιοθήκης. \n  http://www.tai
 niothiki.gr/el/aithouses/programma/event/2206-sirat
DTSTART:20260129T171500Z
DTEND:20260204T191000Z
LOCATION:Αίθουσα Α (ΙΕΡΑ ΟΔΟΣ 48\, 104 35\, ΚΕΡΑΜΕΙΚΟΣ\, ΑΘΗΝΑ)
SUMMARY:Sirat
URL:http://www.tainiothiki.gr/el/aithouses/programma/event/2206-sirat
END:VEVENT
END:VCALENDAR
