BEGIN:VCALENDAR
VERSION:2.0
PRODID:-//http://www.tainiothiki.gr///NONSGML kigkonsult.se iCalcreator 2.10.15//
METHOD:PUBLISH
BEGIN:VEVENT
UID:20260420T170028EEST-3273vNfK1n@http://www.tainiothiki.gr/
DTSTAMP:20260420T140028Z
DESCRIPTION:ΑΙΘΟΥΣΑ Β\nΠΕΜΠΤΗ 29/01 - ΤΕΤΑΡΤΗ 04/02 \n21:00 Marty Supreme (
 Josh Safdie\, 149') Spentzos Films\n\n\nΈνας νεαρός άνδρας με ένα όνειρο π
 ου κανείς δεν σέβεται\, θα κάνει τα πάντα\, προκειμένου να κυνηγήσει το με
 γαλείο.\n\nΣΥΝΟΨΗ\nΝέα Υόρκη\, 1952. Ο Marty Mauser\, ένας 23χρονο πωλητής
  παπουτσιών στο Lower East Side\, έχει μια φιλοδοξία που κανείς δεν παίρνε
 ι στα σοβαρά: να γίνει ο μεγαλύτερος παίκτης πινγκ πονγκ στον κόσμο. Σε μι
 α μεταπολεμική Αμερική\, ο Marty μετατρέπει το παιχνίδι σε σωσίβιο διαφυγή
 ς — από τη φτώχεια\, την οικογενειακή ασφυξία και τους άγραφους ταξικούς κ
 ανόνες. Με αστείρευτη ενέργεια\, θράσος και εμμονή\, ξεκινά ένα ταξίδι που
  τον οδηγεί από τις υπόγειες αίθουσες της Νέας Υόρκης σε όλο τον κόσμο\, κ
 αι σίγουρα πολύ μακρύτερα από τα όρια που του είχαν τεθεί.\n \n\nΕΙΣΙΤΗΡΙΑ
 \n-Είσοδος για όλες τις αίθουσες: 7€\, 5€* (μειωμένο)\nΚάθε Δευτέρα ισχύει
  προσφορά εισόδου για 2 άτομα με ένα εισιτήριο στα 7€ από το ταμείο\n*Το μ
 ειωμένο εισιτήριο αφορά στις παρακάτω κατηγορίες:μαθητές\, φοιτητές\, άτομ
 α άνω των 65 ετών\, άνεργοι\, άνθρωποι με αναπηρία – ΑμεΑ (ισχύει και για 
 έναν/μία συνοδό)\, δάσκαλοι-καθηγητές\, ατέλειες.\nΠρονόμια μελών σε ΜΜΕ\n
 -Αθηνόραμα Club (Αθηνόραμα): Από Δευτέρα έως και Πέμπτη\, ειδική τιμή € 5
 \nΚλείστε ηλεκτρονικά τα εισιτήριά σας στο: https://tickets.tainiothiki.gr
 /Σημειώνεται πως οι δικαιούχοι μειωμένου εισιτηρίου\, θα πρέπει να προμηθε
 υτούν τα εισιτήριά τους από το ταμείο της Ταινιοθήκης. \n  http://www.tain
 iothiki.gr/el/aithouses/programma/event/2201-marty-supreme
DTSTART:20260129T190000Z
DTEND:20260204T213000Z
LOCATION:Αίθουσα Β (ΙΕΡΑ ΟΔΟΣ 48\, 104 35\, ΚΕΡΑΜΕΙΚΟΣ\, ΑΘΗΝΑ)
SUMMARY:Marty Supreme 
URL:http://www.tainiothiki.gr/el/aithouses/programma/event/2201-marty-supre
 me
END:VEVENT
END:VCALENDAR
