BEGIN:VCALENDAR
VERSION:2.0
PRODID:-//http://www.tainiothiki.gr///NONSGML kigkonsult.se iCalcreator 2.10.15//
METHOD:PUBLISH
BEGIN:VEVENT
UID:20260420T201318EEST-2903mNCV4L@http://www.tainiothiki.gr/
DTSTAMP:20260420T171318Z
DESCRIPTION:ΑΙΘΟΥΣΑ Β\nΣΑΒΒΑΤΟ 24/01 \nΤΟ ΦΕΣΤΙΒΑΛ ΟΛΥΜΠΙΑΣ ΣΤΗΝ ΤΑΙΝΙΟΘΗΚΗ
  \n17:30 | Από την Οθόνη… στα Χέρια σου!Εργαστήρι animation με προβολή ται
 νιών και δημιουργία σκηνών stop motion\n19:30 | The Olympia Effect: Γυρίζο
 ντας ταινίες με παιδιά – εμπειρίες και πρακτικέςΣυζήτηση με τη συμμετοχή ε
 παγγελματιών του κινηματογραφικού χώρου\n21:30 | Το συμβούλιο του μέλλοντο
 ς (Future council) | Damon Gameau\, Αυστραλία-Ολλανδία\, 81′\, 2025Βραβείο
  Καλύτερης Ταινίας Ντοκιμαντέρ Μεγάλου Μήκους από τη Διεθνή Κριτική Επιτρο
 πή Kids&amp\;Docs\n\n\n\n- Είσοδος στο αφιέρωμα ΤΟ ΦΕΣΤΙΒΑΛ ΟΛΥΜΠΙΑΣ ΣΤΗΝ 
 ΤΑΙΝΙΟΘΗΚΗ ΤΗΣ ΕΛΛΑΔΟΣ:\n Στις προβολές της Camera Zizanio\, η είσοδος είν
 αι δωρεάν\n Ημερήσιο εισιτήριο για ενήλικες: 9 ευρώ | ημερήσιο εισιτήριο γ
 ια παιδιά: 6 ευρώ | είσοδος ανά προβολή: 5 ευρώ\n Οι ταινίες θα προβληθούν
  με ελληνικούς και αγγλικούς υπότιτλους\n  http://www.tainiothiki.gr/el/ai
 thouses/programma/event/2199-to-festival-olympias-stin-tainiothiki
DTSTART:20260124T153000Z
DTEND:20260124T210000Z
LOCATION:Αίθουσα Β (ΙΕΡΑ ΟΔΟΣ 48\, 104 35\, ΚΕΡΑΜΕΙΚΟΣ\, ΑΘΗΝΑ)
SUMMARY:Το Φεστιβάλ Ολυμπίας στην Ταινιοθήκη
URL:http://www.tainiothiki.gr/el/aithouses/programma/event/2199-to-festival
 -olympias-stin-tainiothiki
END:VEVENT
END:VCALENDAR
