BEGIN:VCALENDAR
VERSION:2.0
PRODID:-//http://www.tainiothiki.gr///NONSGML kigkonsult.se iCalcreator 2.10.15//
METHOD:PUBLISH
BEGIN:VEVENT
UID:20260420T201317EEST-35524vze0R@http://www.tainiothiki.gr/
DTSTAMP:20260420T171317Z
DESCRIPTION:ΑΙΘΟΥΣΑ Α\nΣΑΒΒΑΤΟ 24/01 \nΤΟ ΦΕΣΤΙΒΑΛ ΟΛΥΜΠΙΑΣ ΣΤΗΝ ΤΑΙΝΙΟΘΗΚΗ
  \n17:00 | Βραβευμένες ταινίες 25ης Camera Zizanio\nΠρόγραμμα 1: Μικροί Δη
 μιουργοί\, Μεγάλα Μηνύματα\n19:00 | Χυμένο γάλα (Spilt milk) | Brian Durni
 n\, Ιρλανδία-Ηνωμένο Βασίλειο\, 91′\, 2024Βραβείο Ευρωπαϊκής Ένωσης Παιδικ
 ού Κινηματογράφου (ECFA) για μεγάλου μήκους ταινία\n21:00 | Περί της ανακά
 λυψης των ειδών (On the invention of species) | Tania Hermida\, Εκουαδόρ-Κ
 ούβα\, 91′\, 2024 (cover photo)Βραβείο Καλύτερης Ταινίας Μεγάλου Μήκους απ
 ό τη Διεθνή Κριτική Επιτροπή\n\n\n\n- Είσοδος στο αφιέρωμα ΤΟ ΦΕΣΤΙΒΑΛ ΟΛΥ
 ΜΠΙΑΣ ΣΤΗΝ ΤΑΙΝΙΟΘΗΚΗ ΤΗΣ ΕΛΛΑΔΟΣ:\n Στις προβολές της Camera Zizanio\, η 
 είσοδος είναι δωρεάν\n Ημερήσιο εισιτήριο για ενήλικες: 9 ευρώ | ημερήσιο 
 εισιτήριο για παιδιά: 6 ευρώ | είσοδος ανά προβολή: 5 ευρώ\n Οι ταινίες θα
  προβληθούν με ελληνικούς και αγγλικούς υπότιτλους\n  http://www.tainiothi
 ki.gr/el/aithouses/programma/event/2197-to-festival-olympias-stin-tainioth
 iki
DTSTART:20260124T150000Z
DTEND:20260124T203000Z
LOCATION:Αίθουσα Α (ΙΕΡΑ ΟΔΟΣ 48\, 104 35\, ΚΕΡΑΜΕΙΚΟΣ\, ΑΘΗΝΑ)
SUMMARY:Το Φεστιβάλ Ολυμπίας στην Ταινιοθήκη
URL:http://www.tainiothiki.gr/el/aithouses/programma/event/2197-to-festival
 -olympias-stin-tainiothiki
END:VEVENT
END:VCALENDAR
