BEGIN:VCALENDAR
VERSION:2.0
PRODID:-//http://www.tainiothiki.gr///NONSGML kigkonsult.se iCalcreator 2.10.15//
METHOD:PUBLISH
BEGIN:VEVENT
UID:20260420T170209EEST-4494KcdT8j@http://www.tainiothiki.gr/
DTSTAMP:20260420T140209Z
DESCRIPTION:ΑΙΘΟΥΣΑ Α\nΔΕΥΤΕΡΑ 26/01 - ΤΕΤΑΡΤΗ 28/01 \n21:45 Σπασμένη φλέβα
  (Γιάννης Οικονομίδης\, 127') Tanweer\n\n\nΈνα σύγχρονο καθαρόαιμο αστικό 
 δράμα\, με τραγικούς ήρωες και μοιραίους χαρακτήρες\, σε έναν κόσμο γκρίζο
  και ναρκοθετημένο...\n\n\nΣΥΝΟΨΗ\nΟ Θωμάς Αλεξόπουλος\, ένας μεσήλικας επ
 ιχειρηματίας\, πνίγεται στα λάθη και στις επιπολαιότητές του. Όταν η κόντρ
 α του με τον τοκογλύφο της περιοχής πάρει απρόβλεπτες διαστάσεις\, και με 
 τον χρόνο για να σώσει το οικογενειακό του σπίτι να τελειώνει\, ωθείται στ
 α άκρα. Εκεί που κάθε ελπίδα φαίνεται να έχει χαθεί\, εμφανίζεται ένα απλό
 \, εύκολο σχέδιο της τελευταίας στιγμής. Μια κίνηση που θα μπορούσε να είν
 αι η μόνη του ευκαιρία να αποκαταστήσει τα πάντα και να βγει νικητής.\n\nΣ
 ΚΗΝΟΘΕΤΙΚΟ ΣΗΜΕΙΩΜΑ \nΗ «Σπασμένη Φλέβα» είναι ένα σύγχρονο καθαρόαιμο αστ
 ικό δράμα\, με τραγικούς ήρωες και μοιραίους χαρακτήρες\, σε έναν κόσμο γκ
 ρίζο και ναρκοθετημένο. Μια συνηθισμένη ιστορία που\, στην αναπάντεχη εξέλ
 ιξή της\, αποκαλύπτει τα πολλαπλά πρόσωπα και προσωπεία του ατόμου\, ενώ τ
 αυτόχρονα πραγματώνει έναν από τους χειρότερους εφιάλτες που μπορεί κάποιο
 ς να βιώσει. Βγαλμένη από τα σπλάχνα της μεγάλης παράδοσης του αρχαίου ελλ
 ηνικού δράματος\, η ταινία φέρνει το παρελθόν στο παρόν για να θέσει ξανά 
 έννοιες όπως το Ήθος\, η Ύβρις\, το Πεπρωμένο\, η Αισχύνη\, η Αμετροέπεια\
 , το Εκούσιο και Ακούσιο Έγκλημα. Φυσικά\, αυτό που μένει πάντα στο τέλος 
 αυτού του ξέφρενου ταξιδιού της ζωής δεν είναι τίποτε άλλο παρά η μοναχική
 \, τραγική φύση του ανθρώπου…\nΓιάννης Οικονομίδης\n\nΕΙΣΙΤΗΡΙΑ\n-Είσοδος 
 για όλες τις αίθουσες: 7€\, 5€* (μειωμένο)\nΚάθε Δευτέρα ισχύει προσφορά ε
 ισόδου για 2 άτομα με ένα εισιτήριο στα 7€ από το ταμείο\n*Το μειωμένο εισ
 ιτήριο αφορά στις παρακάτω κατηγορίες:μαθητές\, φοιτητές\, άτομα άνω των 6
 5 ετών\, άνεργοι\, άνθρωποι με αναπηρία – ΑμεΑ (ισχύει και για έναν/μία συ
 νοδό)\, δάσκαλοι-καθηγητές\, ατέλειες.\nΠρονόμια μελών σε ΜΜΕ\n-Αθηνόραμα 
 Club (Αθηνόραμα): Από Δευτέρα έως και Πέμπτη\, ειδική τιμή € 5\nΚλείστε ηλ
 εκτρονικά τα εισιτήριά σας στο: https://tickets.tainiothiki.gr/Σημειώνεται
  πως οι δικαιούχοι μειωμένου εισιτηρίου\, θα πρέπει να προμηθευτούν τα εισ
 ιτήριά τους από το ταμείο της Ταινιοθήκης. \n  http://www.tainiothiki.gr/e
 l/aithouses/programma/event/2189-spasmeni-fleva
DTSTART:20260126T194500Z
DTEND:20260128T215500Z
LOCATION:Αίθουσα Α (ΙΕΡΑ ΟΔΟΣ 48\, 104 35\, ΚΕΡΑΜΕΙΚΟΣ\, ΑΘΗΝΑ)
SUMMARY:Σπασμένη φλέβα 
URL:http://www.tainiothiki.gr/el/aithouses/programma/event/2189-spasmeni-fl
 eva
END:VEVENT
END:VCALENDAR
