BEGIN:VCALENDAR
VERSION:2.0
PRODID:-//http://www.tainiothiki.gr///NONSGML kigkonsult.se iCalcreator 2.10.15//
METHOD:PUBLISH
BEGIN:VEVENT
UID:20260421T021640EEST-5831zjzm2A@http://www.tainiothiki.gr/
DTSTAMP:20260420T231640Z
DESCRIPTION:ΑΙΘΟΥΣΑ Α\nΠΑΡΑΣΚΕΥΗ 19 ΔΕΚΕΜΒΡΙΟΥ\nΑποκατεστημένες και Προσβάσ
 ιμες: Πικρό Ψωμί - Μια ζωή σε θυμάμαι να φεύγεις\n18.30 Παρουσίαση του βιβ
 λίου της Ευαγγελίας Λιάκου Σινεμά με άλλου βλέμμα -Τεχνικές ακουστικής περ
 ιγραφής για την προσβασιμότητα ατόμων με προβλήματα όρασης\n20.00 Πικρό ψω
 μί (Γρηγόρης Γρηγορίου\, 1951)\n21.30 Μια ζωή σε θυμάμαι να φεύγεις (Φρίντ
 α Λιάππα\, 1977)\nOι ταινίες θα προβληθούν με υπότιτλους για κωφούς και βα
 ρήκοους (SDH) και ακουστική περιγραφή για άτομα με οπτική αναπηρία (AD) απ
 ό το Νεανικό Πλάνο (Neaniko Plano Subtitles).\nΕίσοδος ελεύθερη\n \n\n\n\n
   http://www.tainiothiki.gr/el/aithouses/programma/event/2152-apokatestime
 nes-kai-prosvasimes
DTSTART:20251219T163000Z
DTEND:20251219T203000Z
LOCATION:Αίθουσα Α (ΙΕΡΑ ΟΔΟΣ 48\, 104 35\, ΚΕΡΑΜΕΙΚΟΣ\, ΑΘΗΝΑ)
SUMMARY:ΑΠΟΚΑΤΕΣΤΗΜΕΝΕΣ ΚΑΙ ΠΡΟΣΒΑΣΙΜΕΣ
URL:http://www.tainiothiki.gr/el/aithouses/programma/event/2152-apokatestim
 enes-kai-prosvasimes
END:VEVENT
END:VCALENDAR
