BEGIN:VCALENDAR
VERSION:2.0
PRODID:-//http://www.tainiothiki.gr///NONSGML kigkonsult.se iCalcreator 2.10.15//
METHOD:PUBLISH
BEGIN:VEVENT
UID:20260421T021840EEST-7660T2ra8V@http://www.tainiothiki.gr/
DTSTAMP:20260420T231840Z
DESCRIPTION:ΑΙΘΟΥΣΑ Α\nΚΥΡΙΑΚΗ 21 ΔΕΚΕΜΒΡΙΟΥ\nFILM FACTORY 2025\n13:00 Juli
 o Γιώργος Κατσής (Βραβείο Ίρις Β’ Ανδρικού Ρόλου / Αγαπούσε τα λουλούδια π
 ερισσότερο)\n15:00 Γιάννης Αγελαδόπουλος (Βραβείο Ίρις Ειδικών και Οπτικών
  Εφφέ / Αγαπούσε τα λουλούδια περισσότερο)\nΕίσοδος ελεύθερη\n\n\n  http:/
 /www.tainiothiki.gr/el/aithouses/programma/event/2151-film-factory-2025
DTSTART:20251221T110000Z
DTEND:20251221T150000Z
LOCATION:Αίθουσα Β (ΙΕΡΑ ΟΔΟΣ 48\, 104 35\, ΚΕΡΑΜΕΙΚΟΣ\, ΑΘΗΝΑ)
SUMMARY:FILM FACTORY 2025
URL:http://www.tainiothiki.gr/el/aithouses/programma/event/2151-film-factor
 y-2025
END:VEVENT
END:VCALENDAR
